BEGIN:VCALENDAR
VERSION:2.0
PRODID:-//活動【交流會・座談會・說明會等】with 日本村留學就業中心 - ECPv6.8.3//NONSGML v1.0//EN
CALSCALE:GREGORIAN
METHOD:PUBLISH
X-ORIGINAL-URL:https://events.nihonmura.tw
X-WR-CALDESC:Events for 活動【交流會・座談會・說明會等】with 日本村留學就業中心
REFRESH-INTERVAL;VALUE=DURATION:PT1H
X-Robots-Tag:noindex
X-PUBLISHED-TTL:PT1H
BEGIN:VTIMEZONE
TZID:Asia/Taipei
BEGIN:STANDARD
TZOFFSETFROM:+0800
TZOFFSETTO:+0800
TZNAME:CST
DTSTART:20210101T000000
END:STANDARD
END:VTIMEZONE
BEGIN:VEVENT
DTSTART;TZID=Asia/Taipei:20211204T130000
DTEND;TZID=Asia/Taipei:20211204T160000
DTSTAMP:20260424T115135
CREATED:20210728T074412Z
LAST-MODIFIED:20210925T054046Z
UID:4937-1638622800-1638633600@events.nihonmura.tw
SUMMARY:週六 線上日本留學・就職座談會 with 日本村：12月4日
DESCRIPTION:計畫前往日本「就職」、「升學大學院、大學、專門學校」、「學習日文」的人士，此線上座談會由日本村留學中心與日方各學校．機構共同合作舉辦，歡迎有興趣的人士熱情參與。在此座談會上將個別由參與學校．機構開設各種不同主題說明及提供洽詢(各專屬會議小房間)，讓您對於學校課程、日系職涯生活、在地文化和風俗等…有更進一步的了解。聽聽學校人員、留學前輩的分享，從此刻開始，創造您期盼已久的日本生活吧！ \n座談會型態：透過線上視訊會議系統進行\n希望參與者，請輸入下方預約表單，日後將個別提供參與連結以及說明參與方式。(「支援日本留學集點換禮券」活動舉辦中!!) \n各專屬會議小房間\n\nCBC外語商業專門學校介紹及洽詢\n友語言學校集團(+日本就職介紹及洽詢)\n日本留學申請手續及流程(日本村留學就業中心)\n\n※陸續將增加其他不同主題會議小房間，敬請期待並積極參與。 \n時間　\n2021年12月4日(六) 下午1點~4點 \n預約表單\n\n主辦單位　\n日本村留學就業中心\n網址：https://news.nihonmura.tw/\nE-mail：aiueo@nihonmura.com\nLINE ID:@nihonmura (歡迎加入留言)\nTEL：02-8772-7977 FAX: 02-8772-3339\n營業時間：\n週二～五 9:00～19:00；週六 9:00～17:00 \n※公休日：週日、週一。\n地址：10552台北市松山區復興北路73號7樓之2 (捷運南京復興站5號出口)
URL:https://events.nihonmura.tw/event/2021120413/
LOCATION:日本村留學就業中心\, 台北市松山區復興北路73號7樓之2
CATEGORIES:週六 日本留學・就職說明會 IN 日本村（聯合）
ATTACH;FMTTYPE=image/jpeg:https://events.nihonmura.tw/wp-content/uploads/logo_M.jpg
ORGANIZER;CN="%E6%97%A5%E6%9C%AC%E6%9D%91%E7%95%99%E5%AD%B8%E5%B0%B1%E6%A5%AD%E4%B8%AD%E5%BF%83":MAILTO:aiueo@nihonmura.com
END:VEVENT
BEGIN:VEVENT
DTSTART;TZID=Asia/Taipei:20211120T130000
DTEND;TZID=Asia/Taipei:20211120T160000
DTSTAMP:20260424T115135
CREATED:20210728T074157Z
LAST-MODIFIED:20211104T101627Z
UID:4935-1637413200-1637424000@events.nihonmura.tw
SUMMARY:週六 線上日本留學・就職座談會 with 日本村：11月20日
DESCRIPTION:計畫前往日本「就職」、「升學大學院、大學、專門學校」、「學習日文」的人士，此線上座談會由日本村留學中心與日方各學校．機構共同合作舉辦，歡迎有興趣的人士熱情參與。在此座談會上將個別由參與學校．機構開設各種不同主題說明及提供洽詢(各專屬會議小房間)，讓您對於學校課程、日系職涯生活、在地文化和風俗等…有更進一步的了解。聽聽學校人員、留學前輩的分享，從此刻開始，創造您期盼已久的日本生活吧！ \n座談會型態：透過線上視訊會議系統進行\n希望參與者，請輸入下方預約表單，日後將個別提供參與連結以及說明參與方式。(「支援日本留學集點換禮券」活動舉辦中!!) \n各專屬會議小房間\n\nCBC外語商業專門學校介紹及洽詢\n日本留學申請手續及流程(日本村留學就業中心)\n萊恩帕里斯二十一(Leopalace 21)(日本租屋-全國)介紹及洽詢\n輕鬆使用日語交談室\n\n※陸續將增加其他不同主題會議小房間，敬請期待並積極參與。 \n時間　\n2021年11月20日(六) 下午1點~4點 \n預約表單\n\n主辦單位　\n日本村留學就業中心\n網址：https://news.nihonmura.tw/\nE-mail：aiueo@nihonmura.com\nLINE ID:@nihonmura (歡迎加入留言)\nTEL：02-8772-7977 FAX: 02-8772-3339\n營業時間：\n週二～五 9:00～19:00；週六 9:00～17:00 \n※公休日：週日、週一。\n地址：10552台北市松山區復興北路73號7樓之2 (捷運南京復興站5號出口)
URL:https://events.nihonmura.tw/event/2021112013/
LOCATION:日本村留學就業中心\, 台北市松山區復興北路73號7樓之2
CATEGORIES:週六 日本留學・就職說明會 IN 日本村（聯合）
ATTACH;FMTTYPE=image/jpeg:https://events.nihonmura.tw/wp-content/uploads/logo_M.jpg
ORGANIZER;CN="%E6%97%A5%E6%9C%AC%E6%9D%91%E7%95%99%E5%AD%B8%E5%B0%B1%E6%A5%AD%E4%B8%AD%E5%BF%83":MAILTO:aiueo@nihonmura.com
END:VEVENT
BEGIN:VEVENT
DTSTART;TZID=Asia/Taipei:20211106T130000
DTEND;TZID=Asia/Taipei:20211106T160000
DTSTAMP:20260424T115135
CREATED:20210728T073943Z
LAST-MODIFIED:20211028T063617Z
UID:4933-1636203600-1636214400@events.nihonmura.tw
SUMMARY:週六 線上日本留學・就職座談會 with 日本村：11月6日
DESCRIPTION:計畫前往日本「就職」、「升學大學院、大學、專門學校」、「學習日文」的人士，此線上座談會由日本村留學中心與日方各學校．機構共同合作舉辦，歡迎有興趣的人士熱情參與。在此座談會上將個別由參與學校．機構開設各種不同主題說明及提供洽詢(各專屬會議小房間)，讓您對於學校課程、日系職涯生活、在地文化和風俗等…有更進一步的了解。聽聽學校人員、留學前輩的分享，從此刻開始，創造您期盼已久的日本生活吧！ \n座談會型態：透過線上視訊會議系統進行\n希望參與者，請輸入下方預約表單，日後將個別提供參與連結以及說明參與方式。(「支援日本留學集點換禮券」活動舉辦中!!) \n各專屬會議小房間\n\nCBC外語商業專門學校介紹及洽詢\n友語言學校集團(+日本就職介紹及洽詢)\n關西外語專門學校介紹及洽詢\nISI日本語學校(高田馬場、池袋、原宿、京都、長野)介紹及洽詢\nYMCA東京日本語學校介紹及洽詢\n日本留學申請手續及流程(日本村留學就業中心)\n\n※陸續將增加其他不同主題會議小房間，敬請期待並積極參與。 \n時間　\n2021年11月6日(六) 下午1點~4點 \n預約表單\n\n主辦單位　\n日本村留學就業中心\n網址：https://news.nihonmura.tw/\nE-mail：aiueo@nihonmura.com\nLINE ID:@nihonmura (歡迎加入留言)\nTEL：02-8772-7977 FAX: 02-8772-3339\n營業時間：\n週二～五 9:00～19:00；週六 9:00～17:00 \n※公休日：週日、週一。\n地址：10552台北市松山區復興北路73號7樓之2 (捷運南京復興站5號出口)
URL:https://events.nihonmura.tw/event/2021110613/
LOCATION:線上視訊會議型式參與
CATEGORIES:週六 日本留學・就職說明會 IN 日本村（聯合）
ATTACH;FMTTYPE=image/jpeg:https://events.nihonmura.tw/wp-content/uploads/logo_M.jpg
ORGANIZER;CN="%E6%97%A5%E6%9C%AC%E6%9D%91%E7%95%99%E5%AD%B8%E5%B0%B1%E6%A5%AD%E4%B8%AD%E5%BF%83":MAILTO:aiueo@nihonmura.com
END:VEVENT
BEGIN:VEVENT
DTSTART;TZID=Asia/Taipei:20211023T130000
DTEND;TZID=Asia/Taipei:20211023T160000
DTSTAMP:20260424T115135
CREATED:20210728T073710Z
LAST-MODIFIED:20211005T011731Z
UID:4931-1634994000-1635004800@events.nihonmura.tw
SUMMARY:週六 線上日本留學・就職座談會 with 日本村：10月23日
DESCRIPTION:計畫前往日本「就職」、「升學大學院、大學、專門學校」、「學習日文」的人士，此線上座談會由日本村留學中心與日方各學校．機構共同合作舉辦，歡迎有興趣的人士熱情參與。在此座談會上將個別由參與學校．機構開設各種不同主題說明及提供洽詢(各專屬會議小房間)，讓您對於學校課程、日系職涯生活、在地文化和民情等…有更進一步的了解。聽聽學校人員、留學前輩的分享，從此刻開始，創造您期盼已久的日本生活吧！ \n座談會型態：透過線上視訊會議系統進行\n希望參與者，請輸入下方預約表單，日後將個別提供參與連結以及說明參與方式。(「支援日本留學集點換禮券」活動舉辦中!!) \n各專屬會議小房間\n\nCBC外語商業專門學校介紹及洽詢\n日本留學申請手續及流程(日本村留學就業中心)\n萊恩帕里斯二十一(Leopalace 21)(日本租屋-全國)介紹及洽詢\n輕鬆使用日語交談室\n\n※陸續將增加其他不同主題會議小房間，敬請期待並積極參與。 \n時間　\n2021年10月23日(六) 下午1點~4點 \n預約表單\n\n主辦單位　\n日本村留學就業中心\n網址：https://news.nihonmura.tw/\nE-mail：aiueo@nihonmura.com\nLINE ID:@nihonmura (歡迎加入留言)\nTEL：02-8772-7977 FAX: 02-8772-3339\n營業時間：\n週二～五 9:00～19:00；週六 9:00～17:00 \n※公休日：週日、週一。\n地址：10552台北市松山區復興北路73號7樓之2 (捷運南京復興站5號出口)
URL:https://events.nihonmura.tw/event/2021102313/
LOCATION:線上視訊會議型式參與
CATEGORIES:週六 日本留學・就職說明會 IN 日本村（聯合）
ATTACH;FMTTYPE=image/jpeg:https://events.nihonmura.tw/wp-content/uploads/logo_M.jpg
ORGANIZER;CN="%E6%97%A5%E6%9C%AC%E6%9D%91%E7%95%99%E5%AD%B8%E5%B0%B1%E6%A5%AD%E4%B8%AD%E5%BF%83":MAILTO:aiueo@nihonmura.com
END:VEVENT
BEGIN:VEVENT
DTSTART;TZID=Asia/Taipei:20210925T130000
DTEND;TZID=Asia/Taipei:20210925T160000
DTSTAMP:20260424T115135
CREATED:20210728T073400Z
LAST-MODIFIED:20210917T082045Z
UID:4927-1632574800-1632585600@events.nihonmura.tw
SUMMARY:週六 線上日本留學・就職座談會 with 日本村：9月25日
DESCRIPTION:計畫前往日本「就職」、「升學大學院、大學、專門學校」、「學習日文」的人士，此線上座談會由日本村留學中心與日方各學校．機構共同合作舉辦，歡迎有興趣的人士熱情參與。在此座談會上將個別由參與學校．機構開設各種不同主題說明及提供洽詢(各專屬會議小房間)，讓您對於學校課程、日系職涯生活、在地文化和風俗等…有更進一步的了解。聽聽學校人員、留學前輩的分享，從此刻開始，創造您期盼已久的日本生活吧！ \n座談會型態：透過線上視訊會議系統進行\n希望參與者，請輸入下方預約表單，日後將個別提供參與連結以及說明參與方式。(「支援日本留學集點換禮券」活動舉辦中!!) \n各專屬會議小房間\n\nCBC外語商業專門學校介紹及洽詢\n國際語學學院介紹及洽詢\n日本留學申請手續及流程(日本村留學就業中心)\n\n※陸續將增加其他不同主題會議小房間，敬請期待並積極參與。 \n時間　\n2021年9月25日(六) 下午1點~4點 \n預約表單\n\n主辦單位　\n日本村留學就業中心\n網址：https://news.nihonmura.tw/\nE-mail：aiueo@nihonmura.com\nLINE ID:@nihonmura (歡迎加入留言)\nTEL：02-8772-7977 FAX: 02-8772-3339\n營業時間：\n週二～五 9:00～19:00；週六 9:00～17:00 \n※公休日：週日、週一。\n地址：10552台北市松山區復興北路73號7樓之2 (捷運南京復興站5號出口)
URL:https://events.nihonmura.tw/event/2021092513remo/
LOCATION:日本村留學就業中心 @ remo
CATEGORIES:週六 日本留學・就職說明會 IN 日本村（聯合）
ATTACH;FMTTYPE=image/jpeg:https://events.nihonmura.tw/wp-content/uploads/logo_M.jpg
ORGANIZER;CN="%E6%97%A5%E6%9C%AC%E6%9D%91%E7%95%99%E5%AD%B8%E5%B0%B1%E6%A5%AD%E4%B8%AD%E5%BF%83":MAILTO:aiueo@nihonmura.com
END:VEVENT
BEGIN:VEVENT
DTSTART;TZID=Asia/Taipei:20210911T130000
DTEND;TZID=Asia/Taipei:20210911T160000
DTSTAMP:20260424T115135
CREATED:20210728T073151Z
LAST-MODIFIED:20210903T094230Z
UID:4925-1631365200-1631376000@events.nihonmura.tw
SUMMARY:週六 線上日本留學・就職座談會 with 日本村：9月11日
DESCRIPTION:計畫前往日本「就職」、「升學大學院、大學、專門學校」、「學習日文」的人士，此線上座談會由日本村留學中心與日方各學校．機構共同合作舉辦，歡迎有興趣的人士熱情參與。在此座談會上將個別由參與學校．機構開設各種不同主題說明及提供洽詢(各專屬會議小房間)，讓您對於學校課程、日系職涯生活、在地文化和風俗等…有更進一步的了解。聽聽學校人員、留學前輩的分享，從此刻開始，創造您期盼已久的日本生活吧！ \n座談會型態：透過線上視訊會議系統進行\n希望參與者，請輸入下方預約表單，日後將個別提供參與連結以及說明參與方式。(「支援日本留學集點換禮券」活動舉辦中!!) \n各專屬會議小房間\n\nCBC外語商業專門學校介紹及洽詢\n友語言學校集團(+日本就職介紹及洽詢)\n國際語學學院介紹及洽詢\nAdachi學園(東京設計師學院、東京視覺藝術學校、東京商業專門學校、東京觀光專門學校、東京Cool Japan)介紹及洽詢\n日本留學申請手續及流程(日本村留學就業中心)\n萊恩帕里斯二十一(Leopalace 21)(日本租屋-全國)介紹及洽詢\n輕鬆使用日語交談室\n\n※陸續將增加其他不同主題會議小房間，敬請期待並積極參與。 \n時間　\n2021年9月11日(六) 下午1點~4點 \n預約表單\n\n主辦單位　\n日本村留學就業中心\n網址：https://news.nihonmura.tw/\nE-mail：aiueo@nihonmura.com\nLINE ID:@nihonmura (歡迎加入留言)\nTEL：02-8772-7977 FAX: 02-8772-3339\n營業時間：\n週二～五 9:00～19:00；週六 9:00～17:00 \n※公休日：週日、週一。\n地址：10552台北市松山區復興北路73號7樓之2 (捷運南京復興站5號出口)
URL:https://events.nihonmura.tw/event/2021091113remo/
LOCATION:日本村留學就業中心 @ remo
CATEGORIES:週六 日本留學・就職說明會 IN 日本村（聯合）
ATTACH;FMTTYPE=image/jpeg:https://events.nihonmura.tw/wp-content/uploads/logo_M.jpg
ORGANIZER;CN="%E6%97%A5%E6%9C%AC%E6%9D%91%E7%95%99%E5%AD%B8%E5%B0%B1%E6%A5%AD%E4%B8%AD%E5%BF%83":MAILTO:aiueo@nihonmura.com
END:VEVENT
BEGIN:VEVENT
DTSTART;TZID=Asia/Taipei:20210828T130000
DTEND;TZID=Asia/Taipei:20210828T160000
DTSTAMP:20260424T115135
CREATED:20210701T071043Z
LAST-MODIFIED:20210805T044645Z
UID:4825-1630155600-1630166400@events.nihonmura.tw
SUMMARY:週六 線上日本留學・就職座談會 with 日本村：8月28日
DESCRIPTION:計畫前往日本「就職」、「升學大學院、大學、專門學校」、「學習日文」的人士，此線上座談會由日本村留學中心與日方各學校．機構共同合作舉辦，歡迎有興趣的人士熱情參與。在此座談會上將個別由參與學校．機構開設各種不同主題說明及提供洽詢(各專屬會議小房間)，讓您對於學校課程、日系職涯生活、在地文化和風俗等…有更進一步的了解。聽聽學校人員、留學前輩的分享，從此刻開始，創造您期盼已久的日本生活吧！ \n座談會型態：透過線上視訊會議系統進行\n希望參與者，請輸入下方預約表單，日後將個別提供參與連結以及說明參與方式。(「支援日本留學集點換禮券」活動舉辦中!!) \n各專屬會議小房間\n\nCBC外語商業專門學校介紹及洽詢\n友語言學校集團(+日本就職介紹及洽詢)\n神戶YMCA學院專門學校介紹及洽詢\nISI日本語學校(高田馬場、池袋、原宿、京都、長野)介紹及洽詢\n新宿日本語學校介紹及洽詢\n日本留學申請手續及流程(日本村留學就業中心)\n萊恩帕里斯二十一(Leopalace 21)(日本租屋-全國)介紹及洽詢\n\n※陸續將增加其他不同主題會議小房間，敬請期待並積極參與。 \n時間　\n2021年8月28日(六) 下午1點~4點 \n預約表單\n\n主辦單位　\n日本村留學就業中心\n網址：https://news.nihonmura.tw/\nE-mail：aiueo@nihonmura.com\nLINE ID:@nihonmura (歡迎加入留言)\nTEL：02-8772-7977 FAX: 02-8772-3339\n營業時間：\n週二～五 9:00～19:00；週六 9:00～17:00 \n※公休日：週日、週一。\n地址：10552台北市松山區復興北路73號7樓之2 (捷運南京復興站5號出口)
URL:https://events.nihonmura.tw/event/2021082813rmeo/
LOCATION:日本村留學就業中心 @ remo
CATEGORIES:週六 日本留學・就職說明會 IN 日本村（聯合）
ATTACH;FMTTYPE=image/jpeg:https://events.nihonmura.tw/wp-content/uploads/logo_M.jpg
ORGANIZER;CN="%E6%97%A5%E6%9C%AC%E6%9D%91%E7%95%99%E5%AD%B8%E5%B0%B1%E6%A5%AD%E4%B8%AD%E5%BF%83":MAILTO:aiueo@nihonmura.com
END:VEVENT
BEGIN:VEVENT
DTSTART;TZID=Asia/Taipei:20210731T130000
DTEND;TZID=Asia/Taipei:20210731T160000
DTSTAMP:20260424T115135
CREATED:20210701T070754Z
LAST-MODIFIED:20210701T070754Z
UID:4822-1627736400-1627747200@events.nihonmura.tw
SUMMARY:週六 線上日本留學・就職座談會 with 日本村：7月31日
DESCRIPTION:計畫前往日本「就職」、「升學大學院、大學、專門學校」、「學習日文」的人士，此線上座談會由日本村留學中心與日方各學校．機構共同合作舉辦，歡迎有興趣的人士熱情參與。在此座談會上將個別由參與學校．機構開設各種不同主題說明及提供洽詢(各專屬會議小房間)，讓您對於學校課程、日系職涯生活、在地文化和風俗等…有更進一步的了解。聽聽學校人員、留學前輩的分享，從此刻開始，創造您期盼已久的日本生活吧！ \n座談會型態：透過線上視訊會議系統進行\n希望參與者，請輸入下方預約表單，日後將個別提供參與連結以及說明參與方式。(「支援日本留學集點換禮券」活動舉辦中!!) \n各專屬會議小房間\n\n東洋言語學院\nCBC外語商業專門學校\n友語言學校集團(+日本就職介紹及洽詢)\n日本留學申請手續及流程(日本村留學就業中心)\n\n※陸續將增加其他不同主題會議小房間，敬請期待並積極參與。 \n時間　\n2021年7月31日(六) 下午1點~4點 \n預約表單\n\n主辦單位　\n日本村留學就業中心\n網址：https://news.nihonmura.tw/\nE-mail：aiueo@nihonmura.com\nLINE ID:@nihonmura (歡迎加入留言)\nTEL：02-8772-7977 FAX: 02-8772-3339\n營業時間：\n週二～五 9:00～19:00；週六 9:00～17:00 \n※公休日：週日、週一。\n地址：10552台北市松山區復興北路73號7樓之2 (捷運南京復興站5號出口)
URL:https://events.nihonmura.tw/event/2021073113remo/
LOCATION:日本村留學就業中心 @ remo
CATEGORIES:週六 日本留學・就職說明會 IN 日本村（聯合）
ATTACH;FMTTYPE=image/jpeg:https://events.nihonmura.tw/wp-content/uploads/logo_M.jpg
ORGANIZER;CN="%E6%97%A5%E6%9C%AC%E6%9D%91%E7%95%99%E5%AD%B8%E5%B0%B1%E6%A5%AD%E4%B8%AD%E5%BF%83":MAILTO:aiueo@nihonmura.com
END:VEVENT
BEGIN:VEVENT
DTSTART;TZID=Asia/Taipei:20210717T130000
DTEND;TZID=Asia/Taipei:20210717T160000
DTSTAMP:20260424T115135
CREATED:20210701T070455Z
LAST-MODIFIED:20210701T070455Z
UID:4820-1626526800-1626537600@events.nihonmura.tw
SUMMARY:週六 線上日本留學・就職座談會 with 日本村：7月17日
DESCRIPTION:計畫前往日本「就職」、「升學大學院、大學、專門學校」、「學習日文」的人士，此線上座談會由日本村留學中心與日方各學校．機構共同合作舉辦，歡迎有興趣的人士熱情參與。在此座談會上將個別由參與學校．機構開設各種不同主題說明及提供洽詢(各專屬會議小房間)，讓您對於學校課程、日系職涯生活、在地文化和風俗等…有更進一步的了解。聽聽學校人員、留學前輩的分享，從此刻開始，創造您期盼已久的日本生活吧！ \n座談會型態：透過線上視訊會議系統進行\n希望參與者，請輸入下方預約表單，日後將個別提供參與連結以及說明參與方式。(「支援日本留學集點換禮券」活動舉辦中!!) \n各專屬會議小房間\n\nCBC外語商業專門學校\n友語言學校集團(+日本就職介紹及洽詢)\n日本留學申請手續及流程(日本村留學就業中心)\n萊恩帕里斯二十一(Leopalace 21)(日本租屋-全國)介紹及洽詢\n輕鬆使用日語交談室\n\n※陸續將增加其他不同主題會議小房間，敬請期待並積極參與。 \n時間　\n2021年7月17日(六) 下午1點~4點 \n預約表單\n\n主辦單位　\n日本村留學就業中心\n網址：https://news.nihonmura.tw/\nE-mail：aiueo@nihonmura.com\nLINE ID:@nihonmura (歡迎加入留言)\nTEL：02-8772-7977 FAX: 02-8772-3339\n營業時間：\n週二～五 9:00～19:00；週六 9:00～17:00 \n※公休日：週日、週一。\n地址：10552台北市松山區復興北路73號7樓之2 (捷運南京復興站5號出口)
URL:https://events.nihonmura.tw/event/2021071713remo/
LOCATION:日本村留學就業中心 @ remo
CATEGORIES:週六 日本留學・就職說明會 IN 日本村（聯合）
ATTACH;FMTTYPE=image/jpeg:https://events.nihonmura.tw/wp-content/uploads/logo_M.jpg
ORGANIZER;CN="%E6%97%A5%E6%9C%AC%E6%9D%91%E7%95%99%E5%AD%B8%E5%B0%B1%E6%A5%AD%E4%B8%AD%E5%BF%83":MAILTO:aiueo@nihonmura.com
END:VEVENT
BEGIN:VEVENT
DTSTART;TZID=Asia/Taipei:20210703T130000
DTEND;TZID=Asia/Taipei:20210703T160000
DTSTAMP:20260424T115135
CREATED:20210626T051232Z
LAST-MODIFIED:20210701T070247Z
UID:4808-1625317200-1625328000@events.nihonmura.tw
SUMMARY:週六 線上日本留學・就職座談會 with 日本村：7月3日
DESCRIPTION:計畫前往日本「就職」、「升學大學院、大學、專門學校」、「學習日文」的人士，此線上座談會由日本村留學中心與日方各學校．機構共同合作舉辦，歡迎有興趣的人士熱情參與。在此座談會上將個別由參與學校．機構開設各種不同主題說明及提供洽詢(各專屬會議小房間)，讓您對於學校課程、日系職涯生活、在地文化和風俗等…有更進一步的了解。聽聽學校人員、留學前輩的分享，從此刻開始，創造您期盼已久的日本生活吧！ \n座談會型態：透過線上視訊會議系統進行\n希望參與者，請輸入下方預約表單，日後將個別提供參與連結以及說明參與方式。(「支援日本留學集點換禮券」活動舉辦中!!) \n各專屬會議小房間\n\nCBC外語商業專門學校\n友語言學校集團(+日本就職介紹及洽詢)\n日本留學申請手續及流程(日本村留學就業中心)\n\n※陸續將增加其他不同主題會議小房間，敬請期待並積極參與。 \n時間　\n2021年7月3日(六) 下午1點~4點 \n預約表單\n\n主辦單位　\n日本村留學就業中心\n網址：https://news.nihonmura.tw/\nE-mail：aiueo@nihonmura.com\nLINE ID:@nihonmura (歡迎加入留言)\nTEL：02-8772-7977 FAX: 02-8772-3339\n營業時間：\n週二～五 9:00～19:00；週六 9:00～17:00 \n※公休日：週日、週一。\n地址：10552台北市松山區復興北路73號7樓之2 (捷運南京復興站5號出口)
URL:https://events.nihonmura.tw/event/2021070313remo/
LOCATION:日本村留學就業中心 @ remo
CATEGORIES:週六 日本留學・就職說明會 IN 日本村（聯合）
ATTACH;FMTTYPE=image/jpeg:https://events.nihonmura.tw/wp-content/uploads/logo_M.jpg
ORGANIZER;CN="%E6%97%A5%E6%9C%AC%E6%9D%91%E7%95%99%E5%AD%B8%E5%B0%B1%E6%A5%AD%E4%B8%AD%E5%BF%83":MAILTO:aiueo@nihonmura.com
END:VEVENT
BEGIN:VEVENT
DTSTART;TZID=Asia/Taipei:20210522T130000
DTEND;TZID=Asia/Taipei:20210522T160000
DTSTAMP:20260424T115135
CREATED:20210513T074522Z
LAST-MODIFIED:20210515T092847Z
UID:4691-1621688400-1621699200@events.nihonmura.tw
SUMMARY:週六 線上日本留學・就職座談會 with 日本村：5月22日
DESCRIPTION:計畫前往日本「就職」、「升學大學院、大學、專門學校」、「學習日文」的人士，此線上座談會由日本村留學中心與日方各學校．機構共同合作舉辦，歡迎有興趣的人士熱情參與。在此座談會上將個別由參與學校．機構開設各種不同主題說明及提供洽詢(各專屬會議小房間)，讓您對於學校課程、日系職涯生活、在地文化和風俗等…有更進一步的了解。聽聽學校人員、留學前輩的分享，從此刻開始，創造您期盼已久的日本生活吧！ \n座談會型態：透過線上視訊會議系統進行\n希望參與者，請輸入下方預約表單，日後將個別提供參與連結以及說明參與方式。(「支援日本留學集點換禮券」活動舉辦中!!) \n各專屬會議小房間\n\n埼玉國際學園(埼玉)介紹及洽詢\nCBC外語商業專門學校(神奈川)介紹及洽詢\nISI日本語學校(高田馬場、池袋、原宿、京都、長野)介紹及洽詢\n日本留學申請手續及流程(日本村留學中心)介紹及洽詢\n日本就職介紹及洽詢(友語言學校集團)\n萊恩帕里斯二十一(Leopalace 21)(日本租屋-全國)介紹及洽詢\n輕鬆使用日語交談室\n\n※陸續將增加其他不同主題會議小房間，敬請期待並積極參與。 \n時間　\n2021年5月22日(六) 下午1點~4點 \n預約表單\n\n主辦單位　\n日本村留學就業中心\n網址：https://news.nihonmura.tw/\nE-mail：aiueo@nihonmura.com\nLINE ID:@nihonmura (歡迎加入留言)\nTEL：02-8772-7977 FAX: 02-8772-3339\n營業時間：\n週二～五 9:00～19:00；週六 9:00～17:00 \n※公休日：週日、週一。\n地址：10552台北市松山區復興北路73號7樓之2 (捷運南京復興站5號出口)
URL:https://events.nihonmura.tw/event/2021052213remo/
LOCATION:日本村留學就業中心 @ remo
CATEGORIES:週六 日本留學・就職說明會 IN 日本村（聯合）
ATTACH;FMTTYPE=image/jpeg:https://events.nihonmura.tw/wp-content/uploads/logo_M.jpg
ORGANIZER;CN="%E6%97%A5%E6%9C%AC%E6%9D%91%E7%95%99%E5%AD%B8%E5%B0%B1%E6%A5%AD%E4%B8%AD%E5%BF%83":MAILTO:aiueo@nihonmura.com
END:VEVENT
BEGIN:VEVENT
DTSTART;TZID=Asia/Taipei:20210424T130000
DTEND;TZID=Asia/Taipei:20210424T160000
DTSTAMP:20260424T115135
CREATED:20210409T110709Z
LAST-MODIFIED:20210423T021237Z
UID:4549-1619269200-1619280000@events.nihonmura.tw
SUMMARY:週六 線上日本留學・就職座談會 with 日本村：4月24日
DESCRIPTION:計畫前往日本「就職」、「升學大學院、大學、專門學校」、「學習日文」的人士，此線上座談會由日本村留學中心與日方各學校．機構共同合作舉辦，歡迎有興趣的人士熱情參與。在此座談會上將個別由參與學校．機構開設各種不同主題說明及提供洽詢(各專屬會議小房間)，讓您對於學校課程、日系職涯生活、在地文化和風俗等…有更進一步的了解。聽聽學校人員、留學前輩的分享，從此刻開始，創造您期盼已久的日本生活吧！ \n座談會型態：透過線上視訊會議系統進行\n希望參與者，請輸入下方預約表單，日後將個別提供參與連結以及說明參與方式。(「支援日本留學集點換禮券」活動舉辦中!!) \n各專屬會議小房間\n\n埼玉國際學園(埼玉)介紹及洽詢\nCBC外語商業專門學校(神奈川)介紹及洽詢\n日本留學申請手續及流程(日本村留學中心)介紹及洽詢\n日本就職介紹及洽詢(友語言學校集團)\n輕鬆使用日語交談室\n\n※陸續將增加其他不同主題會議小房間，敬請期待並積極參與。 \n時間　\n2021年4月24日(六) 下午1點~4點 \n預約表單\n\n主辦單位　\n日本村留學就業中心\n網址：https://news.nihonmura.tw/\nE-mail：aiueo@nihonmura.com\nLINE ID:@nihonmura (歡迎加入留言)\nTEL：02-8772-7977 FAX: 02-8772-3339\n營業時間：因應日本實施出入境限制期間，營業時間暫時調整如下：\n週一/六 9:00～17:00 週二～五 9:00～21:00(19:00)\n※希望預約19:00~21:00時段者，請另洽詢。\n地址：10552台北市松山區復興北路73號7樓之2 (捷運南京復興站5號出口)
URL:https://events.nihonmura.tw/event/2021042413remo/
LOCATION:日本村留學就業中心 @ remo
CATEGORIES:週六 日本留學・就職說明會 IN 日本村（聯合）
ATTACH;FMTTYPE=image/jpeg:https://events.nihonmura.tw/wp-content/uploads/logo_M.jpg
ORGANIZER;CN="%E6%97%A5%E6%9C%AC%E6%9D%91%E7%95%99%E5%AD%B8%E5%B0%B1%E6%A5%AD%E4%B8%AD%E5%BF%83":MAILTO:aiueo@nihonmura.com
END:VEVENT
BEGIN:VEVENT
DTSTART;TZID=Asia/Taipei:20210410T130000
DTEND;TZID=Asia/Taipei:20210410T160000
DTSTAMP:20260424T115135
CREATED:20210305T060806Z
LAST-MODIFIED:20210331T082306Z
UID:4316-1618059600-1618070400@events.nihonmura.tw
SUMMARY:週六 線上日本留學・就職座談會 with 日本村：4月10日
DESCRIPTION:計畫前往日本「就職」、「升學大學院、大學、專門學校」、「學習日文」的人士，此線上座談會由日本村留學中心與日方各學校．機構共同合作舉辦，歡迎有興趣的人士熱情參與。在此座談會上將個別由參與學校．機構開設各種不同主題說明及提供洽詢(各專屬會議小房間)，讓您對於學校課程、日系職涯生活、在地文化和風俗等…有更進一步的了解。聽聽學校人員、留學前輩的分享，從此刻開始，創造您期盼已久的日本生活吧！ \n座談會型態：透過線上視訊會議系統進行\n希望參與者，請輸入下方預約表單，日後將個別提供參與連結以及說明參與方式。 \n各專屬會議小房間\n\n埼玉國際學園(埼玉)介紹及洽詢\nYMCA東京日本語學校(東京)介紹及洽詢\nCBC外語商業專門學校(神奈川)介紹及洽詢\n神戶COMMUNICA學院(神戶)介紹及洽詢\n日本留學申請手續及流程(日本村留學中心)介紹及洽詢\n日本就職介紹及洽詢(友語言學校集團)\n萊恩帕里斯二十一(Leopalace 21)(日本租屋-全國)介紹及洽詢\n輕鬆使用日語交談室\n\n※陸續將增加其他不同主題會議小房間，敬請期待並積極參與。 \n時間　\n2021年4月10日(六) 下午1點~4點 \n預約表單\n\n主辦單位　\n日本村有限公司\n網址：https://news.nihonmura.tw/\nE-mail：aiueo@nihonmura.com\nLINE ID:@nihonmura (歡迎加入留言)\nTEL：02-8772-7977 FAX: 02-8772-3339\n營業時間：週一/六 9:00～17:00 週二～五 9:00～21:00\n地址：10552台北市松山區復興北路73號7樓之2 (捷運南京復興站5號出口)
URL:https://events.nihonmura.tw/event/2021041013remo/
LOCATION:日本村留學就業中心 @ remo
CATEGORIES:週六 日本留學・就職說明會 IN 日本村（聯合）
ATTACH;FMTTYPE=image/jpeg:https://events.nihonmura.tw/wp-content/uploads/logo_M.jpg
ORGANIZER;CN="%E6%97%A5%E6%9C%AC%E6%9D%91%E7%95%99%E5%AD%B8%E5%B0%B1%E6%A5%AD%E4%B8%AD%E5%BF%83":MAILTO:aiueo@nihonmura.com
END:VEVENT
BEGIN:VEVENT
DTSTART;TZID=Asia/Taipei:20210327T130000
DTEND;TZID=Asia/Taipei:20210327T160000
DTSTAMP:20260424T115135
CREATED:20210305T032910Z
LAST-MODIFIED:20210310T085311Z
UID:4300-1616850000-1616860800@events.nihonmura.tw
SUMMARY:週六 線上日本留學・就職座談會 with 日本村：3月27日
DESCRIPTION:計畫前往日本「就職」、「升學大學院、大學、專門學校」、「學習日文」的人士，此線上座談會由日本村留學中心與日方各學校．機構共同合作舉辦，歡迎有興趣的人士熱情參與。在此座談會上將個別由參與學校．機構開設各種不同主題說明及提供洽詢(各專屬會議小房間)，讓您對於學校課程、日系職涯生活、在地文化和風俗等…有更進一步的了解。聽聽學校人員、留學前輩的分享，從此刻開始，創造您期盼已久的日本生活吧！ \n座談會型態：透過線上視訊會議系統進行\n希望參與者，請輸入下方預約表單，日後將個別提供參與連結以及說明參與方式。 \n各專屬會議小房間\n\n麻生專門學校集團(福岡)介紹及洽詢\nCBC外語商業專門學校(神奈川)介紹及洽詢\n日本留學申請手續及流程(日本村留學中心)介紹及洽詢\n日本就職介紹及洽詢\n萊恩帕里斯二十一(Leopalace 21)(日本租屋-全國)介紹及洽詢\n輕鬆使用日語交談室\n\n※陸續將增加其他不同主題會議小房間，敬請期待並積極參與。 \n時間　\n2021年3月27日(六) 下午1點~4點 \n預約表單\n\n主辦單位　\n日本村有限公司\n網址：https://news.nihonmura.tw/\nE-mail：aiueo@nihonmura.com\nLINE ID:@nihonmura (歡迎加入留言)\nTEL：02-8772-7977 FAX: 02-8772-3339\n營業時間：週一/六 9:00～17:00 週二～五 9:00～21:00\n地址：10552台北市松山區復興北路73號7樓之2 (捷運南京復興站5號出口)
URL:https://events.nihonmura.tw/event/2021032713remo/
LOCATION:日本村留學就業中心 @ remo
CATEGORIES:週六 日本留學・就職說明會 IN 日本村（聯合）
ATTACH;FMTTYPE=image/jpeg:https://events.nihonmura.tw/wp-content/uploads/logo_M.jpg
ORGANIZER;CN="%E6%97%A5%E6%9C%AC%E6%9D%91%E7%95%99%E5%AD%B8%E5%B0%B1%E6%A5%AD%E4%B8%AD%E5%BF%83":MAILTO:aiueo@nihonmura.com
END:VEVENT
END:VCALENDAR