BEGIN:VCALENDAR
VERSION:2.0
PRODID:-//活動【交流會・座談會・說明會等】with 日本村留學就業中心 - ECPv6.8.3//NONSGML v1.0//EN
CALSCALE:GREGORIAN
METHOD:PUBLISH
X-ORIGINAL-URL:https://events.nihonmura.tw
X-WR-CALDESC:Events for 活動【交流會・座談會・說明會等】with 日本村留學就業中心
REFRESH-INTERVAL;VALUE=DURATION:PT1H
X-Robots-Tag:noindex
X-PUBLISHED-TTL:PT1H
BEGIN:VTIMEZONE
TZID:Asia/Taipei
BEGIN:STANDARD
TZOFFSETFROM:+0800
TZOFFSETTO:+0800
TZNAME:CST
DTSTART:20200101T000000
END:STANDARD
END:VTIMEZONE
BEGIN:VEVENT
DTSTART;TZID=Asia/Taipei:20220317T120000
DTEND;TZID=Asia/Taipei:20220317T130000
DTSTAMP:20260425T234048
CREATED:20211110T012320Z
LAST-MODIFIED:20211110T012320Z
UID:5071-1647518400-1647522000@events.nihonmura.tw
SUMMARY:午間 日本留學 線上座談會 with 日本村：大阪YWCA專門學校（大阪）
DESCRIPTION:「大阪YWCA專門學校」為在大阪地區提供日語教學經驗歷史悠久的學校之一。位於大阪市中心，最近車站-梅田車站徒步10分鐘內即可到達。對於持留學簽證的同學享有學生月票購買優惠，學校為全日制教學從早上10點到下午3點，且是以自編教材來上課。除了正規課程外，也安排許多課外活動，像郊遊、兩天一夜旅遊…以及與日本人義工交流等活動。針對想要升大學或是大學院的同學，學校都會固定舉辦升學說明會，也會協助同學如何申請學校手續，幫助同學順利考取理想大學或是大學院。 \n座談會型態：facebook LIVE直播！\n＊於日本村FB粉絲專頁 直播：https://www.facebook.com/nihonmura.tw \n當日說明會流程\n12：00～13：00　大阪YWCA專門學校（大阪）說明＋Q&A ，歡迎填寫下方預約表單，將於座談會開始前傳送提醒通知。 \n個別對應、日本村的留學手續説明等諮詢\n「facebook 線上直播」結束後，採個別對應。希望個別對應者，請事前告知並進行預約。 \n預約表單\nPlease enable JavaScript in your browser to complete this form.姓名 *性別男女聯絡電話(手機號碼) *E-mail *參加場次 *3月17日(四)中午12:00 大阪YWCA專門學校(大阪)日後也希望了解其他學校，請通知我目前的日語程度 *未學過入門~初級(N5~N4)初級~初中級(N4~N3)初中級~中級(N3~N2)中級以上(N2以上)請輸入希望事先了解事項(例：費用、開課時間...)若您是經由介紹，初次參與日本村的活動與我們聯絡的話，請於下方輸入介紹人相關資訊。送出  \n主辦單位　\n日本村留學就業中心\n網址：https://news.nihonmura.tw/\nE-mail：aiueo@nihonmura.com\nLINE ID:@nihonmura (歡迎加入留言)\nTEL：02-8772-7977 FAX: 02-8772-3339\n營業時間：\n週二～五 9:00～19:00；週六 9:00～17:00 \n※公休日：週日、週一。\n地址：10552台北市松山區復興北路73號7樓之2 (捷運南京復興站5號出口)
URL:https://events.nihonmura.tw/event/2022031712/
LOCATION:日本村留學就業中心 facebook
CATEGORIES:午間 日本留學 線上座談會 with 日本村
ATTACH;FMTTYPE=image/jpeg:https://events.nihonmura.tw/wp-content/uploads/ywca_logo_1.jpg
ORGANIZER;CN="%E6%97%A5%E6%9C%AC%E6%9D%91%E7%95%99%E5%AD%B8%E5%B0%B1%E6%A5%AD%E4%B8%AD%E5%BF%83":MAILTO:aiueo@nihonmura.com
END:VEVENT
BEGIN:VEVENT
DTSTART;TZID=Asia/Taipei:20211028T120000
DTEND;TZID=Asia/Taipei:20211028T130000
DTSTAMP:20260425T234048
CREATED:20211013T082221Z
LAST-MODIFIED:20211013T082236Z
UID:5016-1635422400-1635426000@events.nihonmura.tw
SUMMARY:午間 日本留學 線上座談會 with 日本村：大阪YWCA專門學校（大阪）
DESCRIPTION:「大阪YWCA專門學校」為在大阪地區提供日語教學經驗歷史悠久的學校之一。位於大阪市中心，最近車站-梅田車站徒步10分鐘內即可到達。對於持留學簽證的同學享有學生月票購買優惠，學校為全日制教學從早上10點到下午3點，且是以自編教材來上課。除了正規課程外，也安排許多課外活動，像郊遊、兩天一夜旅遊…以及與日本人義工交流等活動。針對想要升大學或是大學院的同學，學校都會固定舉辦升學說明會，也會協助同學如何申請學校手續，幫助同學順利考取理想大學或是大學院。 \n座談會型態：facebook LIVE直播！\n＊於日本村FB粉絲專頁 直播：https://www.facebook.com/nihonmura.tw \n當日說明會流程\n12：00～13：00　大阪YWCA專門學校（大阪）說明＋Q&A ，歡迎填寫下方預約表單，將於座談會開始前傳送提醒通知。 \n個別對應、日本村的留學手續説明等諮詢\n「facebook 線上直播」結束後，採個別對應。希望個別對應者，請事前告知並進行預約。 \n預約表單\nPlease enable JavaScript in your browser to complete this form.姓名 *性別男女聯絡電話(手機號碼) *E-mail *參加場次 *3月17日(四)中午12:00 大阪YWCA專門學校(大阪)日後也希望了解其他學校，請通知我目前的日語程度 *未學過入門~初級(N5~N4)初級~初中級(N4~N3)初中級~中級(N3~N2)中級以上(N2以上)請輸入希望事先了解事項(例：費用、開課時間...)若您是經由介紹，初次參與日本村的活動與我們聯絡的話，請於下方輸入介紹人相關資訊。送出  \n主辦單位　\n日本村留學就業中心\n網址：https://news.nihonmura.tw/\nE-mail：aiueo@nihonmura.com\nLINE ID:@nihonmura (歡迎加入留言)\nTEL：02-8772-7977 FAX: 02-8772-3339\n營業時間：\n週二～五 9:00～19:00；週六 9:00～17:00 \n※公休日：週日、週一。\n地址：10552台北市松山區復興北路73號7樓之2 (捷運南京復興站5號出口)
URL:https://events.nihonmura.tw/event/2021102812/
LOCATION:日本村留學就業中心 facebook
CATEGORIES:午間 日本留學 線上座談會 with 日本村
ATTACH;FMTTYPE=image/jpeg:https://events.nihonmura.tw/wp-content/uploads/ywca_logo_1.jpg
ORGANIZER;CN="%E6%97%A5%E6%9C%AC%E6%9D%91%E7%95%99%E5%AD%B8%E5%B0%B1%E6%A5%AD%E4%B8%AD%E5%BF%83":MAILTO:aiueo@nihonmura.com
END:VEVENT
BEGIN:VEVENT
DTSTART;TZID=Asia/Taipei:20211020T120000
DTEND;TZID=Asia/Taipei:20211020T130000
DTSTAMP:20260425T234048
CREATED:20210915T032127Z
LAST-MODIFIED:20210915T035423Z
UID:4997-1634731200-1634734800@events.nihonmura.tw
SUMMARY:午間 日本留學 線上座談會 with 日本村：國際學園IAY日語學科（北海道）
DESCRIPTION:「國際學園IAY日語學科」於1969年以語學教育及國際交流為目的，創校以來已培育出許多優秀的畢業生。學校位於熱鬧的札幌市區-大通公園附近，生活機能、交通極為便利，是求學的理想之地。學校課程編制除了長期留學簽證課程致力於注重聽說讀寫均衡發展及日常生活會話，進而進行大學、研究所入學考試及畢業後的就業指導外，也有提供寒暑假之短期遊學課程，提供許多的課外活動來讓學生更深入的了解日本文化、日本民情。 \n座談會型態：facebook LIVE直播！\n＊於日本村FB粉絲專頁 直播：https://www.facebook.com/nihonmura.tw \n當日說明會流程\n12：00～13：00　國際學園IAY日語學科（北海道）說明＋Q&A ，歡迎填寫下方預約表單，將於座談會開始前傳送提醒通知。 \n個別對應、日本村的留學手續説明等諮詢\n「facebook 線上直播」結束後，採個別對應。希望個別對應者，請事前告知並進行預約。 \n預約表單\nPlease enable JavaScript in your browser to complete this form.姓名 *性別男女聯絡電話(手機號碼) *E-mail *參加場次 *3月17日(四)中午12:00 大阪YWCA專門學校(大阪)日後也希望了解其他學校，請通知我目前的日語程度 *未學過入門~初級(N5~N4)初級~初中級(N4~N3)初中級~中級(N3~N2)中級以上(N2以上)請輸入希望事先了解事項(例：費用、開課時間...)若您是經由介紹，初次參與日本村的活動與我們聯絡的話，請於下方輸入介紹人相關資訊。送出  \n主辦單位　\n日本村留學就業中心\n網址：https://news.nihonmura.tw/\nE-mail：aiueo@nihonmura.com\nLINE ID:@nihonmura (歡迎加入留言)\nTEL：02-8772-7977 FAX: 02-8772-3339\n營業時間：\n週二～五 9:00～19:00；週六 9:00～17:00 \n※公休日：週日、週一。\n地址：10552台北市松山區復興北路73號7樓之2 (捷運南京復興站5號出口)
URL:https://events.nihonmura.tw/event/2021102012/
LOCATION:日本村留學就業中心 facebook
CATEGORIES:午間 日本留學 線上座談會 with 日本村
ATTACH;FMTTYPE=image/png:https://events.nihonmura.tw/wp-content/uploads/logo_iay_1.png
ORGANIZER;CN="%E6%97%A5%E6%9C%AC%E6%9D%91%E7%95%99%E5%AD%B8%E5%B0%B1%E6%A5%AD%E4%B8%AD%E5%BF%83":MAILTO:aiueo@nihonmura.com
END:VEVENT
BEGIN:VEVENT
DTSTART;TZID=Asia/Taipei:20210825T120000
DTEND;TZID=Asia/Taipei:20210825T130000
DTSTAMP:20260425T234048
CREATED:20210701T063655Z
LAST-MODIFIED:20210701T063655Z
UID:4815-1629892800-1629896400@events.nihonmura.tw
SUMMARY:午間 日本留學 線上座談會 with 日本村：北海道日本語學院札幌本校（北海道）
DESCRIPTION:「北海道日本語學院札幌本校」位於札幌市中央區，提供全校舍wifi環境及寬敞明亮教室、大廰、圖書室等設備齊全。由經驗豐富的日語老師，教授高品質課程外，針對不同目標的學習者，也提供了各種對應的課程。除了日語學習外，也透過其他多元化校外活動、與日本人交流機會來習得自然的日語表達，體驗日本文化和生活。學校提供了安心支援體制(日常生活協助、住宿介紹、打工介紹、升學及就職輔導等..)，讓學習者可以渡過充實的留學生活。 \n座談會型態：facebook LIVE直播！\n＊於日本村FB粉絲專頁 直播：https://www.facebook.com/nihonmura.tw \n當日說明會流程\n12：00～13：00　北海道日本語學院札幌本校（北海道）說明＋Q&A ，歡迎填寫下方預約表單，將於座談會開始前傳送提醒通知。 \n個別對應、日本村的留學手續説明等諮詢\n「facebook 線上直播」結束後，採個別對應。希望個別對應者，請事前告知並進行預約。 \n預約表單\nPlease enable JavaScript in your browser to complete this form.姓名 *性別男女聯絡電話(手機號碼) *E-mail *參加場次 *3月17日(四)中午12:00 大阪YWCA專門學校(大阪)日後也希望了解其他學校，請通知我目前的日語程度 *未學過入門~初級(N5~N4)初級~初中級(N4~N3)初中級~中級(N3~N2)中級以上(N2以上)請輸入希望事先了解事項(例：費用、開課時間...)若您是經由介紹，初次參與日本村的活動與我們聯絡的話，請於下方輸入介紹人相關資訊。送出  \n主辦單位　\n日本村留學就業中心\n網址：https://news.nihonmura.tw/\nE-mail：aiueo@nihonmura.com\nLINE ID:@nihonmura (歡迎加入留言)\nTEL：02-8772-7977 FAX: 02-8772-3339\n營業時間：\n週二～五 9:00～19:00；週六 9:00～17:00 \n※公休日：週日、週一。\n地址：10552台北市松山區復興北路73號7樓之2 (捷運南京復興站5號出口)
URL:https://events.nihonmura.tw/event/2021082512/
LOCATION:日本村留學就業中心 facebook
CATEGORIES:午間 日本留學 線上座談會 with 日本村
ATTACH;FMTTYPE=image/png:https://events.nihonmura.tw/wp-content/uploads/logo-1.png
ORGANIZER;CN="%E6%97%A5%E6%9C%AC%E6%9D%91%E7%95%99%E5%AD%B8%E5%B0%B1%E6%A5%AD%E4%B8%AD%E5%BF%83":MAILTO:aiueo@nihonmura.com
END:VEVENT
BEGIN:VEVENT
DTSTART;TZID=Asia/Taipei:20210727T120000
DTEND;TZID=Asia/Taipei:20210727T130000
DTSTAMP:20260425T234048
CREATED:20210615T030750Z
LAST-MODIFIED:20210615T030750Z
UID:4793-1627387200-1627390800@events.nihonmura.tw
SUMMARY:午間 日本留學 線上座談會 with 日本村：大阪YWCA專門學校（大阪）
DESCRIPTION:「大阪YWCA專門學校」為在大阪地區提供日語教學經驗歷史悠久的學校之一。位於大阪市中心，最近車站-梅田車站徒步10分鐘內即可到達。對於持留學簽證的同學享有學生月票購買優惠，學校為全日制教學從早上10點到下午3點，且是以自編教材來上課。除了正規課程外，也安排許多課外活動，像郊遊、兩天一夜旅遊…以及與日本人義工交流等活動。針對想要升大學或是大學院的同學，學校都會固定舉辦升學說明會，也會協助同學如何申請學校手續，幫助同學順利考取理想大學或是大學院。 \n座談會型態：facebook LIVE直播！\n＊於日本村FB粉絲專頁 直播：https://www.facebook.com/nihonmura.tw \n當日說明會流程\n12：00～13：00　大阪YWCA專門學校（大阪）說明＋Q&A ，歡迎填寫下方預約表單，將於座談會開始前傳送提醒通知。 \n個別對應、日本村的留學手續説明等諮詢\n「facebook 線上直播」結束後，採個別對應。希望個別對應者，請事前告知並進行預約。 \n預約表單\nPlease enable JavaScript in your browser to complete this form.姓名 *性別男女聯絡電話(手機號碼) *E-mail *參加場次 *3月17日(四)中午12:00 大阪YWCA專門學校(大阪)日後也希望了解其他學校，請通知我目前的日語程度 *未學過入門~初級(N5~N4)初級~初中級(N4~N3)初中級~中級(N3~N2)中級以上(N2以上)請輸入希望事先了解事項(例：費用、開課時間...)若您是經由介紹，初次參與日本村的活動與我們聯絡的話，請於下方輸入介紹人相關資訊。送出  \n主辦單位　\n日本村留學就業中心\n網址：https://news.nihonmura.tw/\nE-mail：aiueo@nihonmura.com\nLINE ID:@nihonmura (歡迎加入留言)\nTEL：02-8772-7977 FAX: 02-8772-3339\n營業時間：\n週二～五 9:00～19:00；週六 9:00～17:00 \n※公休日：週日、週一。\n地址：10552台北市松山區復興北路73號7樓之2 (捷運南京復興站5號出口)
URL:https://events.nihonmura.tw/event/2021072712/
LOCATION:日本村留學就業中心 facebook
CATEGORIES:午間 日本留學 線上座談會 with 日本村
ATTACH;FMTTYPE=image/jpeg:https://events.nihonmura.tw/wp-content/uploads/ywca_logo_1.jpg
ORGANIZER;CN="%E6%97%A5%E6%9C%AC%E6%9D%91%E7%95%99%E5%AD%B8%E5%B0%B1%E6%A5%AD%E4%B8%AD%E5%BF%83":MAILTO:aiueo@nihonmura.com
END:VEVENT
BEGIN:VEVENT
DTSTART;TZID=Asia/Taipei:20210517T120000
DTEND;TZID=Asia/Taipei:20210517T130000
DTSTAMP:20260425T234048
CREATED:20210325T013952Z
LAST-MODIFIED:20210428T062532Z
UID:4435-1621252800-1621256400@events.nihonmura.tw
SUMMARY:午間 日本留學 線上座談會 with 日本村：Adachi學園的整體介紹(東京區域)、宣傳動畫
DESCRIPTION:Adachi（安達）學園集團是以東京的東京設計師學院・東京視覺藝術學校・東京商業專門學校・東京觀光專門學校・東京Cool Japan為首，進而在大阪・名古屋・九州拓展成為擁有17所專門學校以及1所日本語學校的綜合性專門學校集團。在專門學校業界裡擁有很高的知名度和聲譽，協助了許多畢業生實現了他們的夢想。在集團下各個專門學校的課程安排中，除了基本的知識、技術的學習外，更多的是實際業界現場的實習模擬練習。同時，在畢業後的求職之路也有一套完善的規劃，協助學生能在畢業後順利求職。 \n座談會型態：facebook LIVE直播！\n＊於日本村FB粉絲專頁 直播：https://www.facebook.com/nihonmura.tw \n當日說明會流程\n12：00～13：00　Adachi學園的整體介紹(東京區域)說明＋Q&A ，歡迎填寫下方預約表單，將於座談會開始前傳送提醒通知。 \n個別對應、日本村的留學手續説明等諮詢\n「facebook 線上直播」結束後，採個別對應。希望個別對應者，請事前告知並進行預約。 \n預約表單\nPlease enable JavaScript in your browser to complete this form.姓名 *性別男女聯絡電話(手機號碼) *E-mail *參加場次 *3月17日(四)中午12:00 大阪YWCA專門學校(大阪)日後也希望了解其他學校，請通知我目前的日語程度 *未學過入門~初級(N5~N4)初級~初中級(N4~N3)初中級~中級(N3~N2)中級以上(N2以上)請輸入希望事先了解事項(例：費用、開課時間...)若您是經由介紹，初次參與日本村的活動與我們聯絡的話，請於下方輸入介紹人相關資訊。送出  \n主辦單位　\n日本村留學就業中心\n網址：https://news.nihonmura.tw/\nE-mail：aiueo@nihonmura.com\nLINE ID:@nihonmura (歡迎加入留言)\nTEL：02-8772-7977 FAX: 02-8772-3339\n營業時間：\n週二～五 9:00～19:00；週六 9:00～17:00 \n※公休日：週日、週一。\n地址：10552台北市松山區復興北路73號7樓之2 (捷運南京復興站5號出口)
URL:https://events.nihonmura.tw/event/2021051712/
LOCATION:日本村留學就業中心 facebook
CATEGORIES:午間 日本留學 線上座談會 with 日本村
ATTACH;FMTTYPE=image/jpeg:https://events.nihonmura.tw/wp-content/uploads/logo_adachi_S.jpg
ORGANIZER;CN="%E6%97%A5%E6%9C%AC%E6%9D%91%E7%95%99%E5%AD%B8%E5%B0%B1%E6%A5%AD%E4%B8%AD%E5%BF%83":MAILTO:aiueo@nihonmura.com
END:VEVENT
BEGIN:VEVENT
DTSTART;TZID=Asia/Taipei:20210422T120000
DTEND;TZID=Asia/Taipei:20210422T130000
DTSTAMP:20260425T234048
CREATED:20210325T013036Z
LAST-MODIFIED:20210408T111244Z
UID:4430-1619092800-1619096400@events.nihonmura.tw
SUMMARY:午間 日本留學 線上座談會 with 日本村：Adachi學園的整體介紹(東京區域)、宣傳動畫
DESCRIPTION:Adachi（安達）學園集團是以東京的東京設計師學院・東京視覺藝術學校・東京商業專門學校・東京觀光專門學校・東京Cool Japan為首，進而在大阪・名古屋・九州拓展成為擁有17所專門學校以及1所日本語學校的綜合性專門學校集團。在專門學校業界裡擁有很高的知名度和聲譽，協助了許多畢業生實現了他們的夢想。在集團下各個專門學校的課程安排中，除了基本的知識、技術的學習外，更多的是實際業界現場的實習模擬練習。同時，在畢業後的求職之路也有一套完善的規劃，協助學生能在畢業後順利求職。 \n座談會型態：facebook LIVE直播！\n＊於日本村FB粉絲專頁 直播：https://www.facebook.com/nihonmura.tw \n當日說明會流程\n12：00～13：00　Adachi學園的整體介紹(東京區域)說明＋Q&A ，歡迎填寫下方預約表單，將於座談會開始前傳送提醒通知。 \n個別對應、日本村的留學手續説明等諮詢\n「facebook 線上直播」結束後，採個別對應。希望個別對應者，請事前告知並進行預約。 \n預約表單\nPlease enable JavaScript in your browser to complete this form.姓名 *性別男女聯絡電話(手機號碼) *E-mail *參加場次 *3月17日(四)中午12:00 大阪YWCA專門學校(大阪)日後也希望了解其他學校，請通知我目前的日語程度 *未學過入門~初級(N5~N4)初級~初中級(N4~N3)初中級~中級(N3~N2)中級以上(N2以上)請輸入希望事先了解事項(例：費用、開課時間...)若您是經由介紹，初次參與日本村的活動與我們聯絡的話，請於下方輸入介紹人相關資訊。送出  \n主辦單位　\n日本村留學就業中心\n網址：https://news.nihonmura.tw/\nE-mail：aiueo@nihonmura.com\nLINE ID:@nihonmura (歡迎加入留言)\nTEL：02-8772-7977 FAX: 02-8772-3339\n營業時間：因應日本實施出入境限制期間，營業時間暫時調整如下：\n週一/六 9:00～17:00 週二～五 9:00～21:00(19:00)\n※希望預約19:00~21:00時段者，請另洽詢。\n地址：10552台北市松山區復興北路73號7樓之2 (捷運南京復興站5號出口)
URL:https://events.nihonmura.tw/event/2021042212/
LOCATION:日本村留學就業中心 facebook
CATEGORIES:午間 日本留學 線上座談會 with 日本村
ATTACH;FMTTYPE=image/jpeg:https://events.nihonmura.tw/wp-content/uploads/logo_adachi_S.jpg
ORGANIZER;CN="%E6%97%A5%E6%9C%AC%E6%9D%91%E7%95%99%E5%AD%B8%E5%B0%B1%E6%A5%AD%E4%B8%AD%E5%BF%83":MAILTO:aiueo@nihonmura.com
END:VEVENT
BEGIN:VEVENT
DTSTART;TZID=Asia/Taipei:20210420T120000
DTEND;TZID=Asia/Taipei:20210420T130000
DTSTAMP:20260425T234048
CREATED:20210407T114203Z
LAST-MODIFIED:20210408T111227Z
UID:4514-1618920000-1618923600@events.nihonmura.tw
SUMMARY:午間 日本留學 線上座談會 with 日本村：京都文化日本語學校
DESCRIPTION:「京都文化日本語學校」於1969年起就開始從事日語教學，也是瓜生山學園旗下的日語教育機構。瓜生山學園由「京都藝術大學、京都藝術設計專門學校、京都文化日本語學校」所組成。上課大樓就在大學校區內，留學生可和日本學生有日常性的交流，並可自由使用大學校園資源，如圖書館、學生大廳、餐廳、以及參加社團等。課程中結合豐富的日本文化、商業日語等選修科目，全日制課程讓學生充實的學習。另外，學校有完善宿舍，讓您初到日本也能在生活上感到安心無虞。 \n座談會型態：facebook LIVE直播！\n＊於日本村FB粉絲專頁 直播：https://www.facebook.com/nihonmura.tw \n當日說明會流程\n12：00～13：00　京都文化日本語學校（京都）說明＋Q&A ，歡迎填寫下方預約表單，將於座談會開始前傳送提醒通知。 \n個別對應、日本村的留學手續説明等諮詢\n「facebook 線上直播」結束後，採個別對應。希望個別對應者，請事前告知並進行預約。 \n預約表單\nPlease enable JavaScript in your browser to complete this form.姓名 *性別男女聯絡電話(手機號碼) *E-mail *參加場次 *3月17日(四)中午12:00 大阪YWCA專門學校(大阪)日後也希望了解其他學校，請通知我目前的日語程度 *未學過入門~初級(N5~N4)初級~初中級(N4~N3)初中級~中級(N3~N2)中級以上(N2以上)請輸入希望事先了解事項(例：費用、開課時間...)若您是經由介紹，初次參與日本村的活動與我們聯絡的話，請於下方輸入介紹人相關資訊。送出  \n主辦單位　\n日本村留學就業中心\n網址：https://news.nihonmura.tw/\nE-mail：aiueo@nihonmura.com\nLINE ID:@nihonmura (歡迎加入留言)\nTEL：02-8772-7977 FAX: 02-8772-3339\n營業時間：因應日本實施出入境限制期間，營業時間暫時調整如下：\n週一/六 9:00～17:00 週二～五 9:00～21:00(19:00)\n※希望預約19:00~21:00時段者，請另洽詢。\n地址：10552台北市松山區復興北路73號7樓之2 (捷運南京復興站5號出口)
URL:https://events.nihonmura.tw/event/2021042012/
LOCATION:日本村留學就業中心 facebook
CATEGORIES:午間 日本留學 線上座談會 with 日本村
ATTACH;FMTTYPE=image/png:https://events.nihonmura.tw/wp-content/uploads/logo_kicl.png
ORGANIZER;CN="%E6%97%A5%E6%9C%AC%E6%9D%91%E7%95%99%E5%AD%B8%E5%B0%B1%E6%A5%AD%E4%B8%AD%E5%BF%83":MAILTO:aiueo@nihonmura.com
END:VEVENT
BEGIN:VEVENT
DTSTART;TZID=Asia/Taipei:20210414T120000
DTEND;TZID=Asia/Taipei:20210414T130000
DTSTAMP:20260425T234048
CREATED:20210324T085510Z
LAST-MODIFIED:20210408T110922Z
UID:4427-1618401600-1618405200@events.nihonmura.tw
SUMMARY:午間 日本留學 線上座談會 with 日本村：MERIC日本語學校
DESCRIPTION:「MERIC日本語學校」位於大阪市，距離最近車站日本橋站徒步約10分鐘路程。學校在教學課程上是根據學習者之日文能力進行分班，各班級有一位班導師和2~3位老師負責，中級程度後，可依自己的目的選修有興趣的科目學習，並有專職升學指導室、指導老師，並提供豐富的升學資料，協助學生能夠於畢業後順利升學。學校設有充實的獎學金制度和交通便利的學生宿舍，並有多位來自不同國家的職員協助解決留學生在日本生活或是學習上的疑慮。 \n座談會型態：facebook LIVE直播！\n＊於日本村FB粉絲專頁 直播：https://www.facebook.com/nihonmura.tw \n當日說明會流程\n12：00～13：00　MERIC日本語學校（大阪）說明＋Q&A ，歡迎填寫下方預約表單，將於座談會開始前傳送提醒通知。 \n個別對應、日本村的留學手續説明等諮詢\n「facebook 線上直播」結束後，採個別對應。希望個別對應者，請事前告知並進行預約。 \n預約表單\nPlease enable JavaScript in your browser to complete this form.姓名 *性別男女聯絡電話(手機號碼) *E-mail *參加場次 *3月17日(四)中午12:00 大阪YWCA專門學校(大阪)日後也希望了解其他學校，請通知我目前的日語程度 *未學過入門~初級(N5~N4)初級~初中級(N4~N3)初中級~中級(N3~N2)中級以上(N2以上)請輸入希望事先了解事項(例：費用、開課時間...)若您是經由介紹，初次參與日本村的活動與我們聯絡的話，請於下方輸入介紹人相關資訊。送出  \n主辦單位　\n日本村留學就業中心\n網址：https://news.nihonmura.tw/\nE-mail：aiueo@nihonmura.com\nLINE ID:@nihonmura (歡迎加入留言)\nTEL：02-8772-7977 FAX: 02-8772-3339\n營業時間：因應日本實施出入境限制期間，營業時間暫時調整如下：\n週一/六 9:00～17:00 週二～五 9:00～21:00(19:00)\n※希望預約19:00~21:00時段者，請另洽詢。\n地址：10552台北市松山區復興北路73號7樓之2 (捷運南京復興站5號出口)
URL:https://events.nihonmura.tw/event/2021041412/
LOCATION:日本村留學就業中心 facebook
CATEGORIES:午間 日本留學 線上座談會 with 日本村
ATTACH;FMTTYPE=image/jpeg:https://events.nihonmura.tw/wp-content/uploads/meric_logo.jpg
ORGANIZER;CN="%E6%97%A5%E6%9C%AC%E6%9D%91%E7%95%99%E5%AD%B8%E5%B0%B1%E6%A5%AD%E4%B8%AD%E5%BF%83":MAILTO:aiueo@nihonmura.com
END:VEVENT
BEGIN:VEVENT
DTSTART;TZID=Asia/Taipei:20210409T120000
DTEND;TZID=Asia/Taipei:20210409T130000
DTSTAMP:20260425T234048
CREATED:20210312T065133Z
LAST-MODIFIED:20210325T013749Z
UID:4359-1617969600-1617973200@events.nihonmura.tw
SUMMARY:午間 日本留學 線上座談會 with 日本村：新宿日本語學校
DESCRIPTION:「新宿日本語學校」創立於1975年，現有來自超過55個國家及地區的約600名留學生就讀。使用校內研發獨特的教學法，教材教具讓學生更有效地學習日語。並提供學生可以使用線上學習網頁及App學習系統。招收長期留學生外，也歡迎其他簽證的同學入學。定期舉辦課外活動以及與日本大學生的交流機會。校舍位於東京中心的高田馬場，設備完善，以及提供學生交通津貼及設有獎學金制度。 \n座談會型態：facebook LIVE直播！\n＊於日本村FB粉絲專頁 直播：https://www.facebook.com/nihonmura.tw \n當日說明會流程\n12：00～13：00　新宿日本語學校（東京）說明＋Q&A ，歡迎填寫下方預約表單，將於座談會開始前傳送提醒通知。 \n個別對應、日本村的留學手續説明等諮詢\n「facebook 線上直播」結束後，採個別對應。希望個別對應者，請事前告知並進行預約。 \n預約表單\nPlease enable JavaScript in your browser to complete this form.姓名 *性別男女聯絡電話(手機號碼) *E-mail *參加場次 *3月17日(四)中午12:00 大阪YWCA專門學校(大阪)日後也希望了解其他學校，請通知我目前的日語程度 *未學過入門~初級(N5~N4)初級~初中級(N4~N3)初中級~中級(N3~N2)中級以上(N2以上)請輸入希望事先了解事項(例：費用、開課時間...)若您是經由介紹，初次參與日本村的活動與我們聯絡的話，請於下方輸入介紹人相關資訊。送出  \n主辦單位　\n日本村有限公司\n網址：https://news.nihonmura.tw/\nE-mail：aiueo@nihonmura.com\nLINE ID:@nihonmura (歡迎加入留言)\nTEL：02-8772-7977 FAX: 02-8772-3339\n營業時間：週一/六 9:00～17:00 週二～五 9:00～21:00\n地址：10552台北市松山區復興北路73號7樓之2 (捷運南京復興站5號出口)
URL:https://events.nihonmura.tw/event/2021040912/
LOCATION:日本村留學就業中心 facebook
CATEGORIES:午間 日本留學 線上座談會 with 日本村
ATTACH;FMTTYPE=image/jpeg:https://events.nihonmura.tw/wp-content/uploads/sng_logo.jpg
ORGANIZER;CN="%E6%97%A5%E6%9C%AC%E6%9D%91%E7%95%99%E5%AD%B8%E5%B0%B1%E6%A5%AD%E4%B8%AD%E5%BF%83":MAILTO:aiueo@nihonmura.com
END:VEVENT
BEGIN:VEVENT
DTSTART;TZID=Asia/Taipei:20210326T120000
DTEND;TZID=Asia/Taipei:20210326T130000
DTSTAMP:20260425T234048
CREATED:20210316T090740Z
LAST-MODIFIED:20210325T013730Z
UID:4376-1616760000-1616763600@events.nihonmura.tw
SUMMARY:午間 日本留學 線上座談會 with 日本村：大阪YWCA專門學校
DESCRIPTION:「大阪YWCA專門學校」為在大阪地區提供日語教學經驗歷史悠久的學校之一。位於大阪市中心，最近車站-梅田車站徒步10分鐘內即可到達。對於持留學簽證的同學享有學生月票購買優惠，學校為全日制教學從早上10點到下午3點，且是以自編教材來上課。除了正規課程外，也安排許多課外活動，像郊遊、兩天一夜旅遊…以及與日本人義工交流等活動。針對想要升大學或是大學院的同學，學校都會固定舉辦升學說明會，也會協助同學如何申請學校手續，幫助同學順利考取理想大學或是大學院。 \n座談會型態：facebook LIVE直播！\n＊於日本村FB粉絲專頁 直播：https://www.facebook.com/nihonmura.tw \n當日說明會流程\n12：00～13：00　大阪YWCA專門學校（大阪）說明＋Q&A ，歡迎填寫下方預約表單，將於座談會開始前傳送提醒通知。 \n個別對應、日本村的留學手續説明等諮詢\n「facebook 線上直播」結束後，採個別對應。希望個別對應者，請事前告知並進行預約。 \n預約表單\nPlease enable JavaScript in your browser to complete this form.姓名 *性別男女聯絡電話(手機號碼) *E-mail *參加場次 *3月17日(四)中午12:00 大阪YWCA專門學校(大阪)日後也希望了解其他學校，請通知我目前的日語程度 *未學過入門~初級(N5~N4)初級~初中級(N4~N3)初中級~中級(N3~N2)中級以上(N2以上)請輸入希望事先了解事項(例：費用、開課時間...)若您是經由介紹，初次參與日本村的活動與我們聯絡的話，請於下方輸入介紹人相關資訊。送出  \n主辦單位　\n日本村有限公司\n網址：https://news.nihonmura.tw/\nE-mail：aiueo@nihonmura.com\nLINE ID:@nihonmura (歡迎加入留言)\nTEL：02-8772-7977 FAX: 02-8772-3339\n營業時間：週一/六 9:00～17:00 週二～五 9:00～21:00\n地址：10552台北市松山區復興北路73號7樓之2 (捷運南京復興站5號出口)
URL:https://events.nihonmura.tw/event/2021032612/
LOCATION:日本村留學就業中心 facebook
CATEGORIES:午間 日本留學 線上座談會 with 日本村
ATTACH;FMTTYPE=image/jpeg:https://events.nihonmura.tw/wp-content/uploads/ywca_logo_1.jpg
ORGANIZER;CN="%E6%97%A5%E6%9C%AC%E6%9D%91%E7%95%99%E5%AD%B8%E5%B0%B1%E6%A5%AD%E4%B8%AD%E5%BF%83":MAILTO:aiueo@nihonmura.com
END:VEVENT
BEGIN:VEVENT
DTSTART;TZID=Asia/Taipei:20210324T120000
DTEND;TZID=Asia/Taipei:20210324T130000
DTSTAMP:20260425T234048
CREATED:20210226T095812Z
LAST-MODIFIED:20210226T095812Z
UID:4282-1616587200-1616590800@events.nihonmura.tw
SUMMARY:午間 日本留學 線上座談會 with 日本村：三峰日本語學校
DESCRIPTION:「三峰日本語學校」位於熱鬧的東京都中心新大久保車站附近，附近交通便利、生活機能優良，同時學校附近有著名國立科學博物館和俳句文學館等地方，可以同時感受日本的現代化社會以及具有歷史文化的層面。學校所提供的課程以培養在日本社會所有的場合(升學、就職、日常生活等)都能運用自如的綜合性日文能力為教育目標。為了要讓學習者能依照自己的目標去邁進，設有專業的升學輔導制度、多樣化選修課程、不定期之校外教學來協助學習者達成最終目標。 \n座談會型態：facebook LIVE直播！\n＊於日本村FB粉絲專頁 直播：https://www.facebook.com/nihonmura.tw \n當日說明會流程\n12：00～13：00　三峰日本語學校（東京）說明＋Q&A ，歡迎填寫下方預約表單，將於座談會開始前傳送提醒通知。 \n個別對應、日本村的留學手續説明等諮詢\n「facebook 線上直播」結束後，採個別對應。希望個別對應者，請事前告知並進行預約。 \n預約表單\nPlease enable JavaScript in your browser to complete this form.姓名 *性別男女聯絡電話(手機號碼) *E-mail *參加場次 *3月17日(四)中午12:00 大阪YWCA專門學校(大阪)日後也希望了解其他學校，請通知我目前的日語程度 *未學過入門~初級(N5~N4)初級~初中級(N4~N3)初中級~中級(N3~N2)中級以上(N2以上)請輸入希望事先了解事項(例：費用、開課時間...)若您是經由介紹，初次參與日本村的活動與我們聯絡的話，請於下方輸入介紹人相關資訊。送出  \n主辦單位　\n日本村有限公司\n網址：https://news.nihonmura.tw/\nE-mail：aiueo@nihonmura.com\nLINE ID:@nihonmura (歡迎加入留言)\nTEL：02-8772-7977 FAX: 02-8772-3339\n營業時間：週一/六 9:00～17:00 週二～五 9:00～21:00\n地址：10552台北市松山區復興北路73號7樓之2 (捷運南京復興站5號出口)
URL:https://events.nihonmura.tw/event/2021032412/
LOCATION:日本村留學就業中心\, 台北市松山區復興北路73號7樓之2
CATEGORIES:午間 日本留學 線上座談會 with 日本村
ATTACH;FMTTYPE=image/jpeg:https://events.nihonmura.tw/wp-content/uploads/logo_mitsumine.jpg
ORGANIZER;CN="%E6%97%A5%E6%9C%AC%E6%9D%91%E7%95%99%E5%AD%B8%E5%B0%B1%E6%A5%AD%E4%B8%AD%E5%BF%83":MAILTO:aiueo@nihonmura.com
END:VEVENT
BEGIN:VEVENT
DTSTART;TZID=Asia/Taipei:20210312T120000
DTEND;TZID=Asia/Taipei:20210312T130000
DTSTAMP:20260425T234048
CREATED:20210222T082818Z
LAST-MODIFIED:20210222T082818Z
UID:4251-1615550400-1615554000@events.nihonmura.tw
SUMMARY:午間 日本留學 線上座談會 with 日本村：ARC大阪日本語學校
DESCRIPTION:「ARC大阪日本語學校」位於大阪市最繁華的難波地區，為ARC教育集團體系下之一的學校，ARC日本語學校創立於1986年，目前於東京、大阪、京都皆有分校提供教授外國留學生日語。學校特色為均由專業的日籍教師來教授，採用少人數的小班制教學模式，注重語言交流能力，讓您在初級，中級，高級，在各個階段所學的日語都能扎實的掌握並且靈活運用為教學的主旨。在籍學生國籍比例，歐美跟亞洲約佔各半，能接觸不同國家文化。課程中除了日語的學習，也提供專業的升學及就職指導、多樣化且豐富的教學活動。 \n座談會型態：facebook LIVE直播！\n＊於日本村FB粉絲專頁 直播：https://www.facebook.com/nihonmura.tw \n當日說明會流程\n12：00～13：00　ARC大阪日本語學校（大阪）說明＋Q&A ，歡迎填寫下方預約表單，將於座談會開始前傳送提醒通知。 \n個別對應、日本村的留學手續説明等諮詢\n「facebook 線上直播」結束後，採個別對應。希望個別對應者，請事前告知並進行預約。 \n預約表單\nPlease enable JavaScript in your browser to complete this form.姓名 *性別男女聯絡電話(手機號碼) *E-mail *參加場次 *3月17日(四)中午12:00 大阪YWCA專門學校(大阪)日後也希望了解其他學校，請通知我目前的日語程度 *未學過入門~初級(N5~N4)初級~初中級(N4~N3)初中級~中級(N3~N2)中級以上(N2以上)請輸入希望事先了解事項(例：費用、開課時間...)若您是經由介紹，初次參與日本村的活動與我們聯絡的話，請於下方輸入介紹人相關資訊。送出  \n主辦單位　\n日本村有限公司\n網址：https://news.nihonmura.tw/\nE-mail：aiueo@nihonmura.com\nLINE ID:@nihonmura (歡迎加入留言)\nTEL：02-8772-7977 FAX: 02-8772-3339\n營業時間：週一/六 9:00～17:00 週二～五 9:00～21:00\n地址：10552台北市松山區復興北路73號7樓之2 (捷運南京復興站5號出口)
URL:https://events.nihonmura.tw/event/031212/
LOCATION:日本村留學就業中心\, 台北市松山區復興北路73號7樓之2
CATEGORIES:午間 日本留學 線上座談會 with 日本村
ATTACH;FMTTYPE=image/jpeg:https://events.nihonmura.tw/wp-content/uploads/logo_arc_osaka.jpg
ORGANIZER;CN="%E6%97%A5%E6%9C%AC%E6%9D%91%E7%95%99%E5%AD%B8%E5%B0%B1%E6%A5%AD%E4%B8%AD%E5%BF%83":MAILTO:aiueo@nihonmura.com
END:VEVENT
BEGIN:VEVENT
DTSTART;TZID=Asia/Taipei:20201118T120000
DTEND;TZID=Asia/Taipei:20201118T130000
DTSTAMP:20260425T234048
CREATED:20201110T103311Z
LAST-MODIFIED:20201110T103344Z
UID:3942-1605700800-1605704400@events.nihonmura.tw
SUMMARY:午間 日本留學 線上座談會 with 日本村：宅都集團-日本專業租屋（關西地區）説明會
DESCRIPTION:「宅都集團」自大阪起家，從事不動產開發、管理、租賃仲介等服務至今多年，於近年來台北設立分店，提供直接當面諮詢服務。針對赴日留學、打工度假及就職者，讓您赴日前可先確定日本住處，從一開始諮詢房屋物件到日本交屋，全程中文專員對應，解決因文化差異及語言溝通造成的困擾，提供完善且專業的租屋媒合服務。此場說明會內容為介紹到日本後應處理的手續，日本租屋文化，找屋時注意事項，及宅都管理的租賃物件、學生宿舍等介紹。 \n座談會型態：facebook LIVE直播！\n＊於日本村FB粉絲專頁 直播：https://www.facebook.com/nihonmura.tw \n當日說明會流程\n12：00～13：00　宅都集團-日本專業租屋（關西地區）説明＋Q&A \n個別對應、日本村的留學手續説明等諮詢\n「facebook 線上直播」結束後，採個別對應。希望個別對應者，請進行事前預約。 \n預約方法\n＊利用「線上預約表單」填入必要資訊進行預約。\n＊也可以加入日本村LINE官方帳號進行預約。LINE ID:「@nihonmura」\n＊又或者利用下方聯絡資訊與我們聯絡進行預約。 \n主辦單位\n日本村有限公司\n網址：https://news.nihonmura.tw/\nE-mail：aiueo@nihonmura.com\nLINE ID:@nihonmura (歡迎加入留言)\nTEL：02-8772-7977 FAX: 02-8772-3339\n營業時間：週一/六 9:00～17:00 週二～五 9:00～21:00\n地址：10552台北市松山區復興北路73號7樓之2 (捷運南京復興站5號出口)
URL:https://events.nihonmura.tw/event/2020111812/
CATEGORIES:午間 日本留學 線上座談會 with 日本村
ATTACH;FMTTYPE=image/jpeg:https://events.nihonmura.tw/wp-content/uploads/logo_M.jpg
ORGANIZER;CN="%E6%97%A5%E6%9C%AC%E6%9D%91%E7%95%99%E5%AD%B8%E5%B0%B1%E6%A5%AD%E4%B8%AD%E5%BF%83":MAILTO:aiueo@nihonmura.com
END:VEVENT
BEGIN:VEVENT
DTSTART;TZID=Asia/Taipei:20201104T120000
DTEND;TZID=Asia/Taipei:20201104T130000
DTSTAMP:20260425T234048
CREATED:20201019T071307Z
LAST-MODIFIED:20201020T022624Z
UID:3616-1604491200-1604494800@events.nihonmura.tw
SUMMARY:午間 日本留學 線上座談會 with 日本村：日本留學 你問我答相談室（ECC日本語學院）
DESCRIPTION:ECC日本語學院神戶校 八田老師 線上為你解惑 日本不僅僅是來自世界各地人們最喜歡旅行觀光的國家之一，同時每年也有許多學生前往留學。想了解日本的魅力所在何處? 讓我們一起發現更多不一樣的日本。ECC日本語學院神戶校特別開設你問我答相談室，對於日本的一切，不論是生活、學習、時事、文化、流行事物等…只要有想問的、有不了解的，歡迎提出，八田老師會盡其所能的為你解答，與大家交流喔! 當日提問也ok，希望事先提出問題者，請填寫”提問表單”。 \n座談會型態：facebook LIVE直播！\n＊於日本村FB粉絲專頁 直播：https://www.facebook.com/nihonmura.tw \n當日說明會流程\n12：00～13：00　日本留學 你問我答相談室（ECC日本語學院）＋Q&A \n個別對應、日本村的留學手續説明等諮詢\n「facebook 線上直播」結束後，採個別對應。希望個別對應者，請進行事前預約。 \n預約方法\n＊利用「線上預約表單」填入必要資訊進行預約。＊也可以加入日本村LINE官方帳號進行預約。LINE ID:「@nihonmura」＊又或者利用下方聯絡資訊與我們聯絡進行預約。 \n主辦單位　\n日本村有限公司 網址：https://news.nihonmura.tw/ E-mail：aiueo@nihonmura.com LINE ID:@nihonmura (歡迎加入留言) TEL：02-8772-7977 FAX: 02-8772-3339 營業時間：週一/六 9:00～17:00 週二～五 9:00～21:00地址：10552台北市松山區復興北路73號7樓之2 (捷運南京復興站5號出口)
URL:https://events.nihonmura.tw/event/2020_11_04_12/
LOCATION:日本村留學就業中心 facebook
CATEGORIES:午間 日本留學 線上座談會 with 日本村
ATTACH;FMTTYPE=image/png:https://events.nihonmura.tw/wp-content/uploads/logo-2.png
ORGANIZER;CN="%E6%97%A5%E6%9C%AC%E6%9D%91%E7%95%99%E5%AD%B8%E5%B0%B1%E6%A5%AD%E4%B8%AD%E5%BF%83":MAILTO:aiueo@nihonmura.com
END:VEVENT
BEGIN:VEVENT
DTSTART;TZID=Asia/Taipei:20201030T120000
DTEND;TZID=Asia/Taipei:20201030T130000
DTSTAMP:20260425T234048
CREATED:20201017T070334Z
LAST-MODIFIED:20201020T020149Z
UID:3521-1604059200-1604062800@events.nihonmura.tw
SUMMARY:午間 日本留學 線上座談會 with 日本村：北海道日本語學院札幌本校（北海道）說明會
DESCRIPTION:「北海道日本語學院札幌本校」位於札幌市中央區，提供全校舍wifi環境及寬敞明亮教室、大廰、圖書室等設備齊全。由經驗豐富的日語老師，教授高品質課程外，針對不同目標的學習者，也提供了各種對應的課程。除了日語學習外，也透過其他多元化校外活動、與日本人交流機會來習得自然的日語表達，體驗日本文化和生活。學校提供了安心支援體制(日常生活協助、住宿介紹、打工介紹、升學及就職輔導等..)，讓學習者可以渡過充實的留學生活。 \n座談會型態：facebook LIVE直播！\n＊於日本村FB粉絲專頁 直播：https://www.facebook.com/nihonmura.tw \n當日說明會流程\n12：00～13：00　北海道日本語學院札幌本校（北海道）說明＋Q&A \n個別對應、日本村的留學手續説明等諮詢\n「facebook 線上直播」結束後，採個別對應。希望個別對應者，請進行事前預約。 \n預約方法\n＊利用「線上預約表單」填入必要資訊進行預約。\n＊也可以加入日本村LINE官方帳號進行預約。LINE ID:「@nihonmura」\n＊又或者利用下方聯絡資訊與我們聯絡進行預約。 \n主辦單位\n日本村有限公司\n網址：https://news.nihonmura.tw/\nE-mail：aiueo@nihonmura.com\nLINE ID:@nihonmura (歡迎加入留言)\nTEL：02-8772-7977 FAX: 02-8772-3339\n營業時間：週一/六 9:00～17:00 週二～五 9:00～21:00\n地址：10552台北市松山區復興北路73號7樓之2 (捷運南京復興站5號出口)
URL:https://events.nihonmura.tw/event/2020_10_30_12/
LOCATION:日本村留學就業中心 facebook
CATEGORIES:午間 日本留學 線上座談會 with 日本村
ATTACH;FMTTYPE=image/png:https://events.nihonmura.tw/wp-content/uploads/logo-1.png
ORGANIZER;CN="%E6%97%A5%E6%9C%AC%E6%9D%91%E7%95%99%E5%AD%B8%E5%B0%B1%E6%A5%AD%E4%B8%AD%E5%BF%83":MAILTO:aiueo@nihonmura.com
END:VEVENT
BEGIN:VEVENT
DTSTART;TZID=Asia/Taipei:20201026T120000
DTEND;TZID=Asia/Taipei:20201026T130000
DTSTAMP:20260425T234048
CREATED:20201017T050645Z
LAST-MODIFIED:20201020T015524Z
UID:3482-1603713600-1603717200@events.nihonmura.tw
SUMMARY:午間 日本留學 線上座談會 with 日本村：日本就職講座（友語言學校集團）
DESCRIPTION:本次說明會特別邀請到日本的人材開發公司「株式会社PONT COMMUNICATIONS」的代表 高橋泰典先生來說明想在日本工作時，一定要具備的日本商業禮儀以及待客之道。高橋先生和他的工作團隊在人材培育具有豐富經驗，也指導出許多台灣及外國人材在日本就職。另外也會介紹由友語言學校集團及「株式会社PONT COMMUNICATIONS」一起開設的飯店就職課程。提供給為來想要在日本就職的你，又多一種選擇。機會難得，千萬不要錯過! \n座談會型態：facebook LIVE直播！\n＊於日本村FB粉絲專頁 直播：https://www.facebook.com/nihonmura.tw \n當日說明會流程\n12：00～13：00　日本就職講座（友語言學校集團）＋Q&A \n個別對應、日本村的留學手續説明等諮詢\n「facebook 線上直播」結束後，採個別對應。希望個別對應者，請進行事前預約。 \n預約方法\n＊利用「線上預約表單」填入必要資訊進行預約。＊也可以加入日本村LINE官方帳號進行預約。LINE ID:「@nihonmura」＊又或者利用下方聯絡資訊與我們聯絡進行預約。 \n主辦單位\n日本村有限公司網址：https://news.nihonmura.tw/E-mail：aiueo@nihonmura.comLINE ID:@nihonmura (歡迎加入留言)TEL：02-8772-7977 FAX: 02-8772-3339營業時間：週一/六 9:00～17:00 週二～五 9:00～21:00地址：10552台北市松山區復興北路73號7樓之2 (捷運南京復興站5號出口)
URL:https://events.nihonmura.tw/event/2020_10_26_12/
LOCATION:日本村留學就業中心 facebook
CATEGORIES:午間 日本留學 線上座談會 with 日本村
ATTACH;FMTTYPE=image/png:https://events.nihonmura.tw/wp-content/uploads/logo.png
ORGANIZER;CN="%E6%97%A5%E6%9C%AC%E6%9D%91%E7%95%99%E5%AD%B8%E5%B0%B1%E6%A5%AD%E4%B8%AD%E5%BF%83":MAILTO:aiueo@nihonmura.com
END:VEVENT
BEGIN:VEVENT
DTSTART;TZID=Asia/Taipei:20201019T120000
DTEND;TZID=Asia/Taipei:20201019T130000
DTSTAMP:20260425T234048
CREATED:20201017T063440Z
LAST-MODIFIED:20201020T022722Z
UID:3487-1603108800-1603112400@events.nihonmura.tw
SUMMARY:午間 日本留學 線上座談會 with 日本村：札幌語言中心（北海道）說明會
DESCRIPTION:「札幌語言中心」位在札幌市中心，臨近中島公園旁，環境安靜舒適、適合學習，札幌是生活消費相對便宜的城市能節省經費。學校對於想在日本升學、就業的學生，提供優良教學設施與環境。母公司「Career Bank」為北海道最大的人才介紹公司，能在就學期間介紹適合的打工兼職。除日語課程外，也不定期舉辦各種活動，除了體驗日本文化，還能享受北海道風土民情。為了讓學生安心生活，可介紹並安排住宿，免費接機以及協助入境日本後必要申請手續。 \n座談會型態：facebook LIVE直播！\n＊於日本村FB粉絲專頁 直播：https://www.facebook.com/nihonmura.tw \n當日說明會流程\n12：00～13：00　札幌語言中心（北海道）說明＋Q&A \n個別對應、日本村的留學手續説明等諮詢\n「facebook 線上直播」結束後，採個別對應。希望個別對應者，請進行事前預約。 \n預約方法\n＊利用「線上預約表單」填入必要資訊進行預約。\n＊也可以加入日本村LINE官方帳號進行預約。LINE ID:「@nihonmura」\n＊又或者利用下方聯絡資訊與我們聯絡進行預約。 \n主辦單位　\n日本村有限公司\n網址：https://news.nihonmura.tw/\nE-mail：aiueo@nihonmura.com\nLINE ID:@nihonmura (歡迎加入留言)\nTEL：02-8772-7977 FAX: 02-8772-3339\n營業時間：週一/六 9:00～17:00 週二～五 9:00～21:00\n地址：10552台北市松山區復興北路73號7樓之2 (捷運南京復興站5號出口) \n\n \n\n午間 日本留學 線上座談會 with 日本村：札幌語言中心（北海道）說明會 \n午間 日本留學 線上座談會 with 日本村\n2020年10月19日（一）12：00開始\n札幌語言中心（北海道）說明會 \n「札幌語言中心」位在札幌市中心，臨近中島公園旁，環境安靜舒適、適合學習，札幌是生活消費相對便宜的城市能節省經費。學校對於想在日本升學、就業的學生，提供優良教學設施與環境。母公司「Career Bank」為北海道最大的人才介紹公司，能在就學期間介紹適合的打工兼職。除日語課程外，也不定期舉辦各種活動，除了體驗日本文化，還能享受北海道風土民情。為了讓學生安心生活，可介紹並安排住宿，免費接機以及協助入境日本後必要申請手續。 \n校方人員的個別對應、日本村的留學手續説明等諮詢\n「直播」結束後，採個別對應。希望個別對應者，請進行事前預約。 \n預約方法\n＊利用「線上預約表單」填入必要資訊進行預約。\nhttp://fair.nihonmura.tw/mini_seminar_apply.html\n＊也可以加入日本村LINE官方帳號進行預約。LINE ID:「@nihonmura」\nhttps://line.me/R/ti/p/%40omd5720x\n＊又或者利用下方聯絡資訊與我們聯絡進行預約。 \n日本村有限公司\n網址：http://news.nihonmura.tw/\nE-mail：aiueo@nihonmura.com\nLINE ID:@nihonmura (歡迎加入留言)\nTEL：02-8772-7977 FAX: 02-8772-3339\n營業時間：週一/六 9:00～17:00 週二～五 9:00～21:00\n地址：10552台北市松山區復興北路73號7樓之2 (捷運南京復興站5號出口) \n日本村（日本留學代辦・日本留學展・日本留學說明會）さんの投稿 2020年10月18日日曜日
URL:https://events.nihonmura.tw/event/2020_10_19_12/
LOCATION:日本村留學就業中心 facebook
CATEGORIES:午間 日本留學 線上座談會 with 日本村
ATTACH;FMTTYPE=image/jpeg:https://events.nihonmura.tw/wp-content/uploads/logo.jpg
ORGANIZER;CN="%E6%97%A5%E6%9C%AC%E6%9D%91%E7%95%99%E5%AD%B8%E5%B0%B1%E6%A5%AD%E4%B8%AD%E5%BF%83":MAILTO:aiueo@nihonmura.com
END:VEVENT
END:VCALENDAR