BEGIN:VCALENDAR
VERSION:2.0
PRODID:-//活動【交流會・座談會・說明會等】with 日本村留學就業中心 - ECPv6.8.3//NONSGML v1.0//EN
CALSCALE:GREGORIAN
METHOD:PUBLISH
X-WR-CALNAME:活動【交流會・座談會・說明會等】with 日本村留學就業中心
X-ORIGINAL-URL:https://events.nihonmura.tw
X-WR-CALDESC:Events for 活動【交流會・座談會・說明會等】with 日本村留學就業中心
REFRESH-INTERVAL;VALUE=DURATION:PT1H
X-Robots-Tag:noindex
X-PUBLISHED-TTL:PT1H
BEGIN:VTIMEZONE
TZID:Asia/Taipei
BEGIN:STANDARD
TZOFFSETFROM:+0800
TZOFFSETTO:+0800
TZNAME:CST
DTSTART:20260101T000000
END:STANDARD
END:VTIMEZONE
BEGIN:VEVENT
DTSTART;TZID=Asia/Taipei:20260515T150000
DTEND;TZID=Asia/Taipei:20260515T160000
DTSTAMP:20260424T051511
CREATED:20260207T065656Z
LAST-MODIFIED:20260207T065656Z
UID:8089-1778857200-1778860800@events.nihonmura.tw
SUMMARY:週五 日本留學說明會 IN 日本村：埼玉國際學園
DESCRIPTION:「埼玉國際學園」位於埼玉縣熊谷市_熊谷站，為鄰近東京的中型城市，到東京市中心搭電車1小時多的車程即可抵達。學校成立於1988年，多年來已有許多畢業生活躍於各種不同的產業領域中。學校為獨立的校舍，附近有市立體育館與圖書館，學習生活環境為優良，具備經驗的教師陣容，對學生施行全面性的日語學習指導以及專門學校、大學、大學院的升學諮詢，並透過日語學習加強與社區、社會的交流，進一步了解日本的風俗習慣等日本文化。學校為了希望入住宿舍的學生提供安全、居住環境良好、方便通學、生活機能便利與減輕學員的負擔，提供符合條件、房租低廉的優質宿舍。學校同時支援學生打工，更深入體驗了解日本，學校及宿舍附近打工機會也很多，可以多少補貼生活費用。 \n若您優先考慮的是在一個悠靜適合讀書，想遠離大城市的城囂，但又想要不要離大城市太遠的話，可以考慮到埼玉國際學園來學習。想更了解學校附近的生活環境、學校的課程規劃嗎？我們將透過視訊方式與負責台灣留學生招生事務老師連線來進行說明，歡迎您向我們預約報名參加哦!! \n對象\n1. 想了解「埼玉國際學園(埼玉縣)」的人士。\n2. 想長期(一年以上)留學日本的人士。\n3. 想短期(3個月內)留學日本的人士。\n4. 預定持打工渡假簽證(或是已經取得打工渡假簽證)前往日本的人士。 \n日期&時間\n2026年5月15日（星期五）下午3點開始 \n※若無法直接前來日本村留學就業中心參與者，也可透過網路視訊會議型式參與。 \n說明會地點\n105039台北市松山區復興北路73號7樓之2 (捷運南京復興站5號出口)\n \n預約表單\n\n主辦單位　\n日本村留學就業中心\n網址：https://news.nihonmura.tw/\nE-mail：aiueo@nihonmura.com\nLINE ID:@nihonmura (歡迎加入留言)\nTEL：02-8772-7977 FAX: 02-8772-3339\n營業時間：\n週二～五 9:00～21:00；週六 9:00～17:00 \n※公休日：週日、週一。\n地址：105039台北市松山區復興北路73號7樓之2 (捷運南京復興站5號出口)
URL:https://events.nihonmura.tw/event/2026051515/
CATEGORIES:週五 日本留學說明會 in 日本村,週五・週六 日本留學說明會 in 日本村（個別）
ATTACH;FMTTYPE=image/png:https://events.nihonmura.tw/wp-content/uploads/saitama_logo.png
ORGANIZER;CN="%E6%97%A5%E6%9C%AC%E6%9D%91%E7%95%99%E5%AD%B8%E5%B0%B1%E6%A5%AD%E4%B8%AD%E5%BF%83":MAILTO:aiueo@nihonmura.com
END:VEVENT
BEGIN:VEVENT
DTSTART;TZID=Asia/Taipei:20260612T150000
DTEND;TZID=Asia/Taipei:20260612T160000
DTSTAMP:20260424T051511
CREATED:20260207T065857Z
LAST-MODIFIED:20260207T065857Z
UID:8091-1781276400-1781280000@events.nihonmura.tw
SUMMARY:週五 日本留學說明會 IN 日本村：埼玉國際學園
DESCRIPTION:「埼玉國際學園」位於埼玉縣熊谷市_熊谷站，為鄰近東京的中型城市，到東京市中心搭電車1小時多的車程即可抵達。學校成立於1988年，多年來已有許多畢業生活躍於各種不同的產業領域中。學校為獨立的校舍，附近有市立體育館與圖書館，學習生活環境為優良，具備經驗的教師陣容，對學生施行全面性的日語學習指導以及專門學校、大學、大學院的升學諮詢，並透過日語學習加強與社區、社會的交流，進一步了解日本的風俗習慣等日本文化。學校為了希望入住宿舍的學生提供安全、居住環境良好、方便通學、生活機能便利與減輕學員的負擔，提供符合條件、房租低廉的優質宿舍。學校同時支援學生打工，更深入體驗了解日本，學校及宿舍附近打工機會也很多，可以多少補貼生活費用。 \n若您優先考慮的是在一個悠靜適合讀書，想遠離大城市的城囂，但又想要不要離大城市太遠的話，可以考慮到埼玉國際學園來學習。想更了解學校附近的生活環境、學校的課程規劃嗎？我們將透過視訊方式與負責台灣留學生招生事務老師連線來進行說明，歡迎您向我們預約報名參加哦!! \n對象\n1. 想了解「埼玉國際學園(埼玉縣)」的人士。\n2. 想長期(一年以上)留學日本的人士。\n3. 想短期(3個月內)留學日本的人士。\n4. 預定持打工渡假簽證(或是已經取得打工渡假簽證)前往日本的人士。 \n日期&時間\n2026年6月12日（星期五）下午3點開始 \n※若無法直接前來日本村留學就業中心參與者，也可透過網路視訊會議型式參與。 \n說明會地點\n105039台北市松山區復興北路73號7樓之2 (捷運南京復興站5號出口)\n \n預約表單\n\n主辦單位　\n日本村留學就業中心\n網址：https://news.nihonmura.tw/\nE-mail：aiueo@nihonmura.com\nLINE ID:@nihonmura (歡迎加入留言)\nTEL：02-8772-7977 FAX: 02-8772-3339\n營業時間：\n週二～五 9:00～21:00；週六 9:00～17:00 \n※公休日：週日、週一。\n地址：105039台北市松山區復興北路73號7樓之2 (捷運南京復興站5號出口)
URL:https://events.nihonmura.tw/event/2026061215/
CATEGORIES:週五 日本留學說明會 in 日本村,週五・週六 日本留學說明會 in 日本村（個別）
ATTACH;FMTTYPE=image/png:https://events.nihonmura.tw/wp-content/uploads/saitama_logo.png
ORGANIZER;CN="%E6%97%A5%E6%9C%AC%E6%9D%91%E7%95%99%E5%AD%B8%E5%B0%B1%E6%A5%AD%E4%B8%AD%E5%BF%83":MAILTO:aiueo@nihonmura.com
END:VEVENT
END:VCALENDAR