BEGIN:VCALENDAR
VERSION:2.0
PRODID:-//活動【交流會・座談會・說明會等】with 日本村留學就業中心 - ECPv6.8.3//NONSGML v1.0//EN
CALSCALE:GREGORIAN
METHOD:PUBLISH
X-WR-CALNAME:活動【交流會・座談會・說明會等】with 日本村留學就業中心
X-ORIGINAL-URL:https://events.nihonmura.tw
X-WR-CALDESC:Events for 活動【交流會・座談會・說明會等】with 日本村留學就業中心
REFRESH-INTERVAL;VALUE=DURATION:PT1H
X-Robots-Tag:noindex
X-PUBLISHED-TTL:PT1H
BEGIN:VTIMEZONE
TZID:Asia/Taipei
BEGIN:STANDARD
TZOFFSETFROM:+0800
TZOFFSETTO:+0800
TZNAME:CST
DTSTART:20250101T000000
END:STANDARD
END:VTIMEZONE
BEGIN:VEVENT
DTSTART;TZID=Asia/Taipei:20250808T150000
DTEND;TZID=Asia/Taipei:20250808T160000
DTSTAMP:20260426T081913
CREATED:20250729T074929Z
LAST-MODIFIED:20250729T074929Z
UID:7731-1754665200-1754668800@events.nihonmura.tw
SUMMARY:週五 日本留學說明會 IN 日本村：日本長期留學申請流程說明
DESCRIPTION:當您考慮前往日本留學，計劃申請日本的語文學校時，您知道如何著手進行準備嗎? 擁有超過20年代辦經驗、代辦學生人數超過千位的日本村代辦事務所能為您解答。申請日本的語文學校長期課程(持留學簽證入學)，一般來說在入學前半年就要開始準備文件、提出報名申請，想要更了解整個日本語文學校的申請手續、流程，日本村事務所將為大家舉辦說明會，在這場說明會中，將為大家說明何謂長期留學? 短期遊學? 以及就讀語文學校時，應事前準備的手續，申請入學時，需備齊什麼文件? 最晚何時需提出申請?? 如何選擇符合自己需求的語文學校等等… \n如果您有計畫將來會前往日本做長期(半年以上)進修，歡迎您事先了解申請語文學校的流程，為自己將來的留學之路事前做些準備。日本村專員將為大家說明，由於場地有限，採預約制。計畫前往日本進修的人士，歡迎您報名參加，並期望透過此講座讓大家早日完成前往日本求學的夢想。 \n對象\n1.將來打算前往日本進修(半年以上)日語的人士。\n2.以預定1年以內入學者為優先接受預約。 \n日期&時間\n2025年8月8日（星期五）下午3點開始 \n※若無法直接前來日本村留學就業中心參與者，也可透過網路視訊會議型式參與。 \n說明會地點\n10552台北市松山區復興北路73號7樓之2 (捷運南京復興站5號出口)\n \n預約表單\nPlease enable JavaScript in your browser to complete this form.姓名 *性別 *男女其他年齡 *請直接填入數字，例如：24歲，請填入24即可。聯絡電話(手機號碼) *E-mail *參加場次(可複選) *8月7日(四)下午3:00 日本短期遊學說明會(*僅受理現場參與)8月8日(五)下午3:00 日本長期留學申請流程說明8月9日(六)下午1:00 日本長期留學申請流程說明參與場次為兩場以上，希望參與方式不同時，請於下方備註欄註明各場次之希望參與方式。\n欲了解其他說明會場次者，請可以連結以下網址查閱。\n\n週五・週六 日本留學說明會 in 日本村：https://events.nihonmura.tw/events/category/fri_sat/ 希望參加型態 *現場參與(直接前往日本村)網路視訊連線參與(*)(*)原則上以現場參與為主，若無法親自到場參與，也可受理透過網路視訊參與，關於連線方式，日後將個別傳送參與連結並指導參與方式。希望入學時期 *2026年1月2026年4月其他/未定希望利用何種簽證前往 *正規學生身份--學生簽證 [6個月以上]不清楚 / 未定其他目前日語程度 *未學過入門~初級(N5~N4)初級~初中級(N4~N3)初中級~中級(N3~N2)中級以上(N2以上)未來想要在日本的目標 *升學(大學院、大學、專門學校)就職回國其他在日本留學的計劃、其他詢問等..請輸入在此處若您是經由介紹，初次參與日本村的活動與我們聯絡的話，請於下方輸入介紹人相關資訊。送出  \n主辦單位　\n日本村留學就業中心\n網址：https://news.nihonmura.tw/\nE-mail：aiueo@nihonmura.com\nLINE ID:@nihonmura (歡迎加入留言)\nTEL：02-8772-7977 FAX: 02-8772-3339\n營業時間：\n週二～五 9:00～21:00；週六 9:00～17:00 \n※公休日：週日、週一。\n地址：10552台北市松山區復興北路73號7樓之2 (捷運南京復興站5號出口)
URL:https://events.nihonmura.tw/event/202507291500/
LOCATION:日本村留學就業中心\, 台北市松山區復興北路73號7樓之2
CATEGORIES:週五 日本留學說明會 in 日本村,週五・週六 日本留學說明會 in 日本村（個別）
ATTACH;FMTTYPE=image/jpeg:https://events.nihonmura.tw/wp-content/uploads/logo_M.jpg
ORGANIZER;CN="%E6%97%A5%E6%9C%AC%E6%9D%91%E7%95%99%E5%AD%B8%E5%B0%B1%E6%A5%AD%E4%B8%AD%E5%BF%83":MAILTO:aiueo@nihonmura.com
END:VEVENT
BEGIN:VEVENT
DTSTART;TZID=Asia/Taipei:20250808T190000
DTEND;TZID=Asia/Taipei:20250808T200000
DTSTAMP:20260426T081913
CREATED:20250719T020640Z
LAST-MODIFIED:20250719T021654Z
UID:7130-1754679600-1754683200@events.nihonmura.tw
SUMMARY:週五 日本留學說明會 IN 日本村：認識日本的專門學校
DESCRIPTION:何謂日本的專門學校？可學習的領域有哪些？入學條件為何？該如何準備、報考流程？進入專門學校的優勢為何？在此講座中將為各位說明關於日本專門學校的教育體制，畢業後的出路選擇，以及分析在海外(台灣)報考、在日本報考的優缺點，讓未來有計畫前往日本進修的人士，提早做準備，規劃一條專屬自已的留學之路。您取得日檢N2了嗎？不管您目前的日語程度如何？透過專業的日本留學團隊，提供全方位諮詢建議、協助，進入日本的專門學校不再是難事！ \n計畫前往日本進修的人士，歡迎您報名參加，並期望透過此講座讓大家早日完成前往日本求學的夢想。 \n對象\n1.將來打算前往日本進修「專業課程」的人士。\n＊查詢日本的”專門學校”\n2.已取得日檢N2以上者為優先接受預約。 \n日期&時間\n2025年8月8日（星期五）晚間7點開始 \n※若無法直接前來日本村留學中心參與者，也可透過網路視訊會議型式參與。 \n說明會地點\n105039台北市松山區復興北路73號7樓之2 (捷運南京復興站5號出口)\n \n預約表單\nPlease enable JavaScript in your browser to complete this form.姓名 *性別 *男女其他年齡 *請直接填入數字，例如：24歲，請填入24即可。聯絡電話(手機號碼) *E-mail *希望參加日期場次 *8月08日 (五)  晚間7:008月15日 (五) 晚間7:009月05日 (五)  晚間7:009月19日 (五)  晚間7:00欲了解其他說明會場次者，請可以連結以下網址查閱。\n日本留學說明會 in 日本村：https://events.nihonmura.tw/? 說明會型態網路連線參加 (＊Zoom視訊會議軟體)希望入學時期 *2026年4月2027年4月其他目前日語程度 *N2以上合格念過日本的語文學校(一年以上)尚未取得N2不清楚想報考的學校名、科系，或有其他詢問等..請輸入在此處若您是經由介紹，初次參與日本村的活動與我們聯絡的話，請於下方輸入介紹人相關資訊。送出  \n主辦單位　\n日本村留學就業中心\n網址：https://news.nihonmura.tw/\nE-mail：aiueo@nihonmura.com\nLINE ID:@nihonmura (歡迎加入留言)\nTEL：02-8772-7977 FAX: 02-8772-3339\n營業時間：\n週二～五 9:00～21:00；週六 9:00～17:00 \n※公休日：週日、週一。\n地址：105039台北市松山區復興北路73號7樓之2 (捷運南京復興站5號出口)
URL:https://events.nihonmura.tw/event/202508081900/
LOCATION:日本村留學就業中心\, 台北市松山區復興北路73號7樓之2
CATEGORIES:週五 日本留學說明會 in 日本村,週五・週六 日本留學說明會 in 日本村（個別）
ATTACH;FMTTYPE=image/jpeg:https://events.nihonmura.tw/wp-content/uploads/logo_M.jpg
ORGANIZER;CN="%E6%97%A5%E6%9C%AC%E6%9D%91%E7%95%99%E5%AD%B8%E5%B0%B1%E6%A5%AD%E4%B8%AD%E5%BF%83":MAILTO:aiueo@nihonmura.com
END:VEVENT
END:VCALENDAR