BEGIN:VCALENDAR
VERSION:2.0
PRODID:-//活動【交流會・座談會・說明會等】with 日本村留學就業中心 - ECPv6.8.3//NONSGML v1.0//EN
CALSCALE:GREGORIAN
METHOD:PUBLISH
X-WR-CALNAME:活動【交流會・座談會・說明會等】with 日本村留學就業中心
X-ORIGINAL-URL:https://events.nihonmura.tw
X-WR-CALDESC:Events for 活動【交流會・座談會・說明會等】with 日本村留學就業中心
REFRESH-INTERVAL;VALUE=DURATION:PT1H
X-Robots-Tag:noindex
X-PUBLISHED-TTL:PT1H
BEGIN:VTIMEZONE
TZID:Asia/Taipei
BEGIN:STANDARD
TZOFFSETFROM:+0800
TZOFFSETTO:+0800
TZNAME:CST
DTSTART:20260101T000000
END:STANDARD
END:VTIMEZONE
BEGIN:VEVENT
DTSTART;TZID=Asia/Taipei:20260306T150000
DTEND;TZID=Asia/Taipei:20260306T160000
DTSTAMP:20260424T072709
CREATED:20260226T083331Z
LAST-MODIFIED:20260226T083331Z
UID:8110-1772809200-1772812800@events.nihonmura.tw
SUMMARY:週五 日本留學說明會 IN 日本村：日本長期留學申請流程說明
DESCRIPTION:當您考慮前往日本留學，計劃申請日本的語文學校時，您知道如何著手進行準備嗎? 擁有超過20年代辦經驗、代辦學生人數超過千位的日本村代辦事務所能為您解答。申請日本的語文學校長期課程(持留學簽證入學)，一般來說在入學前半年就要開始準備文件、提出報名申請，想要更了解整個日本語文學校的申請手續、流程，日本村事務所將為大家舉辦說明會，在這場說明會中，將為大家說明何謂長期留學? 短期遊學? 以及就讀語文學校時，應事前準備的手續，申請入學時，需備齊什麼文件? 最晚何時需提出申請?? 如何選擇符合自己需求的語文學校等等… \n如果您有計畫將來會前往日本做長期(半年以上)進修，歡迎您事先了解申請語文學校的流程，為自己將來的留學之路事前做些準備。日本村專員將為大家說明，由於場地有限，採預約制。計畫前往日本進修的人士，歡迎您報名參加，並期望透過此講座讓大家早日完成前往日本求學的夢想。 \n對象\n1.將來打算前往日本進修(半年以上)日語的人士。\n2.以預定1年以內入學者為優先接受預約。 \n日期&時間\n2026年3月6日（星期五）下午3點開始 \n※若無法直接前來日本村留學就業中心參與者，也可透過網路視訊會議型式參與。 \n說明會地點\n10552台北市松山區復興北路73號7樓之2 (捷運南京復興站5號出口)\n \n預約表單\n\n  \n主辦單位　\n日本村留學就業中心\n網址：https://news.nihonmura.tw/\nE-mail：aiueo@nihonmura.com\nLINE ID:@nihonmura (歡迎加入留言)\nTEL：02-8772-7977 FAX: 02-8772-3339\n營業時間：\n週二～五 9:00～21:00；週六 9:00～17:00 \n※公休日：週日、週一。\n地址：10552台北市松山區復興北路73號7樓之2 (捷運南京復興站5號出口)
URL:https://events.nihonmura.tw/event/202603061500/
LOCATION:日本村留學就業中心\, 台北市松山區復興北路73號7樓之2
CATEGORIES:週五 日本留學說明會 in 日本村,週五・週六 日本留學說明會 in 日本村（個別）
ATTACH;FMTTYPE=image/jpeg:https://events.nihonmura.tw/wp-content/uploads/logo_M.jpg
ORGANIZER;CN="%E6%97%A5%E6%9C%AC%E6%9D%91%E7%95%99%E5%AD%B8%E5%B0%B1%E6%A5%AD%E4%B8%AD%E5%BF%83":MAILTO:aiueo@nihonmura.com
END:VEVENT
BEGIN:VEVENT
DTSTART;TZID=Asia/Taipei:20260313T150000
DTEND;TZID=Asia/Taipei:20260313T160000
DTSTAMP:20260424T072709
CREATED:20260207T063008Z
LAST-MODIFIED:20260207T063632Z
UID:8071-1773414000-1773417600@events.nihonmura.tw
SUMMARY:週五 日本留學說明會 IN 日本村：埼玉國際學園
DESCRIPTION:「埼玉國際學園」位於埼玉縣熊谷市_熊谷站，為鄰近東京的中型城市，到東京市中心搭電車1小時多的車程即可抵達。學校成立於1988年，多年來已有許多畢業生活躍於各種不同的產業領域中。學校為獨立的校舍，附近有市立體育館與圖書館，學習生活環境為優良，具備經驗的教師陣容，對學生施行全面性的日語學習指導以及專門學校、大學、大學院的升學諮詢，並透過日語學習加強與社區、社會的交流，進一步了解日本的風俗習慣等日本文化。學校為了希望入住宿舍的學生提供安全、居住環境良好、方便通學、生活機能便利與減輕學員的負擔，提供符合條件、房租低廉的優質宿舍。學校同時支援學生打工，更深入體驗了解日本，學校及宿舍附近打工機會也很多，可以多少補貼生活費用。 \n若您優先考慮的是在一個悠靜適合讀書，想遠離大城市的城囂，但又想要不要離大城市太遠的話，可以考慮到埼玉國際學園來學習。想更了解學校附近的生活環境、學校的課程規劃嗎？我們將透過視訊方式與負責台灣留學生招生事務老師連線來進行說明，歡迎您向我們預約報名參加哦!! \n對象\n1. 想了解「埼玉國際學園(埼玉縣)」的人士。\n2. 想長期(一年以上)留學日本的人士。\n3. 想短期(3個月內)留學日本的人士。\n4. 預定持打工渡假簽證(或是已經取得打工渡假簽證)前往日本的人士。 \n日期&時間\n2026年3月13日（星期五）下午3點開始 \n※若無法直接前來日本村留學就業中心參與者，也可透過網路視訊會議型式參與。 \n說明會地點\n105039台北市松山區復興北路73號7樓之2 (捷運南京復興站5號出口)\n \n預約表單\nPlease enable JavaScript in your browser to complete this form.姓名 *性別 *男女其他年齡 *請直接填入數字，例如：24歲，請填入24即可。聯絡電話(手機號碼) *E-mail *參加場次(可複選) *3月13日(五)下午3:00 埼玉國際學園 學校說明會參與場次為兩場以上，希望參與方式不同時，請於下方備註欄註明各場次之希望參與方式。\n欲了解其他說明會場次者，請可以連結以下網址查閱。\n\n週五・週六 日本留學說明會 in 日本村：https://events.nihonmura.tw/events/category/fri_sat/ 希望參加型態 *現場參與(直接前往日本村)網路視訊連線參與(*)(*)原則上以現場參與為主，若無法親自到場參與，也可受理透過網路視訊參與，關於連線方式，日後將個別傳送參與連結並指導參與方式。希望入學時期 *2026年7月2026年10月2027年1月2027年4月其他/未定希望利用何種簽證前往 *正規學生身份--學生簽證 [6個月以上]不清楚 / 未定其他目前日語程度 *未學過入門~初級(N5~N4)初級~初中級(N4~N3)初中級~中級(N3~N2)中級以上(N2以上)未來想要在日本的目標 *升學(大學院、大學、專門學校)就職回國其他在日本留學的計劃、其他詢問等..請輸入在此處若您是經由介紹，初次參與日本村的活動與我們聯絡的話，請於下方輸入介紹人相關資訊。送出  \n主辦單位　\n日本村留學就業中心\n網址：https://news.nihonmura.tw/\nE-mail：aiueo@nihonmura.com\nLINE ID:@nihonmura (歡迎加入留言)\nTEL：02-8772-7977 FAX: 02-8772-3339\n營業時間：\n週二～五 9:00～21:00；週六 9:00～17:00 \n※公休日：週日、週一。\n地址：105039台北市松山區復興北路73號7樓之2 (捷運南京復興站5號出口)
URL:https://events.nihonmura.tw/event/2026031315/
CATEGORIES:週五 日本留學說明會 in 日本村,週五・週六 日本留學說明會 in 日本村（個別）
ATTACH;FMTTYPE=image/png:https://events.nihonmura.tw/wp-content/uploads/saitama_logo.png
ORGANIZER;CN="%E6%97%A5%E6%9C%AC%E6%9D%91%E7%95%99%E5%AD%B8%E5%B0%B1%E6%A5%AD%E4%B8%AD%E5%BF%83":MAILTO:aiueo@nihonmura.com
END:VEVENT
BEGIN:VEVENT
DTSTART;TZID=Asia/Taipei:20260327T150000
DTEND;TZID=Asia/Taipei:20260327T160000
DTSTAMP:20260424T072709
CREATED:20260226T083731Z
LAST-MODIFIED:20260226T083731Z
UID:8112-1774623600-1774627200@events.nihonmura.tw
SUMMARY:週五 日本留學說明會 IN 日本村：日本長期留學申請流程說明
DESCRIPTION:當您考慮前往日本留學，計劃申請日本的語文學校時，您知道如何著手進行準備嗎? 擁有超過20年代辦經驗、代辦學生人數超過千位的日本村代辦事務所能為您解答。申請日本的語文學校長期課程(持留學簽證入學)，一般來說在入學前半年就要開始準備文件、提出報名申請，想要更了解整個日本語文學校的申請手續、流程，日本村事務所將為大家舉辦說明會，在這場說明會中，將為大家說明何謂長期留學? 短期遊學? 以及就讀語文學校時，應事前準備的手續，申請入學時，需備齊什麼文件? 最晚何時需提出申請?? 如何選擇符合自己需求的語文學校等等… \n如果您有計畫將來會前往日本做長期(半年以上)進修，歡迎您事先了解申請語文學校的流程，為自己將來的留學之路事前做些準備。日本村專員將為大家說明，由於場地有限，採預約制。計畫前往日本進修的人士，歡迎您報名參加，並期望透過此講座讓大家早日完成前往日本求學的夢想。 \n對象\n1.將來打算前往日本進修(半年以上)日語的人士。\n2.以預定1年以內入學者為優先接受預約。 \n日期&時間\n2026年3月27日（星期五）下午3點開始 \n※若無法直接前來日本村留學就業中心參與者，也可透過網路視訊會議型式參與。 \n說明會地點\n10552台北市松山區復興北路73號7樓之2 (捷運南京復興站5號出口)\n \n預約表單\n\n  \n主辦單位　\n日本村留學就業中心\n網址：https://news.nihonmura.tw/\nE-mail：aiueo@nihonmura.com\nLINE ID:@nihonmura (歡迎加入留言)\nTEL：02-8772-7977 FAX: 02-8772-3339\n營業時間：\n週二～五 9:00～21:00；週六 9:00～17:00 \n※公休日：週日、週一。\n地址：10552台北市松山區復興北路73號7樓之2 (捷運南京復興站5號出口)
URL:https://events.nihonmura.tw/event/202603271500/
LOCATION:日本村留學就業中心\, 台北市松山區復興北路73號7樓之2
CATEGORIES:週五 日本留學說明會 in 日本村,週五・週六 日本留學說明會 in 日本村（個別）
ATTACH;FMTTYPE=image/jpeg:https://events.nihonmura.tw/wp-content/uploads/logo_M.jpg
ORGANIZER;CN="%E6%97%A5%E6%9C%AC%E6%9D%91%E7%95%99%E5%AD%B8%E5%B0%B1%E6%A5%AD%E4%B8%AD%E5%BF%83":MAILTO:aiueo@nihonmura.com
END:VEVENT
END:VCALENDAR