BEGIN:VCALENDAR
VERSION:2.0
PRODID:-//活動【交流會・座談會・說明會等】with 日本村留學就業中心 - ECPv6.8.3//NONSGML v1.0//EN
CALSCALE:GREGORIAN
METHOD:PUBLISH
X-ORIGINAL-URL:https://events.nihonmura.tw
X-WR-CALDESC:Events for 活動【交流會・座談會・說明會等】with 日本村留學就業中心
REFRESH-INTERVAL;VALUE=DURATION:PT1H
X-Robots-Tag:noindex
X-PUBLISHED-TTL:PT1H
BEGIN:VTIMEZONE
TZID:Asia/Taipei
BEGIN:STANDARD
TZOFFSETFROM:+0800
TZOFFSETTO:+0800
TZNAME:CST
DTSTART:20230101T000000
END:STANDARD
END:VTIMEZONE
BEGIN:VEVENT
DTSTART;VALUE=DATE:20240208
DTEND;VALUE=DATE:20240215
DTSTAMP:20260424T212444
CREATED:20231202T061655Z
LAST-MODIFIED:20231202T061747Z
UID:6611-1707350400-1707955199@events.nihonmura.tw
SUMMARY:農曆年節休假公告
DESCRIPTION:【農曆年節休假公告】 \n\n\n\n\n▲ 2/8(四)-2/14(三)日本留遊學諮詢服務於此期間『暫停對應』，若有諮詢需求，歡迎可先於官方LINE客服小幫手一對一留言『@nihonmura』喔❗ 將於2/15(四)9:00開始營業日後依序回覆大家。 \n\n\n\n~如果造成不便之處，還請見諒，謝謝~ \n\n\n\n\n\n日本村留學就業中心網址：https://news.nihonmura.tw/E-mail：aiueo@nihonmura.comLINE ID:@nihonmura (歡迎加入留言)TEL：02-8772-7977 FAX: 02-8772-3339營業時間：週二～五 9:00～19:00；週六 9:00～17:00 ※公休日：週日、週一。地址：10552台北市松山區復興北路73號7樓之2 (捷運南京復興站5號出口)
URL:https://events.nihonmura.tw/event/2024020814/
LOCATION:日本村留學就業中心\, 台北市松山區復興北路73號7樓之2
CATEGORIES:受理留學．遊學諮詢
ATTACH;FMTTYPE=image/jpeg:https://events.nihonmura.tw/wp-content/uploads/logo_M.jpg
ORGANIZER;CN="%E6%97%A5%E6%9C%AC%E6%9D%91%E7%95%99%E5%AD%B8%E5%B0%B1%E6%A5%AD%E4%B8%AD%E5%BF%83":MAILTO:aiueo@nihonmura.com
END:VEVENT
BEGIN:VEVENT
DTSTART;VALUE=DATE:20231230
DTEND;VALUE=DATE:20240102
DTSTAMP:20260424T212444
CREATED:20231202T022545Z
LAST-MODIFIED:20231202T022632Z
UID:6607-1703894400-1704153599@events.nihonmura.tw
SUMMARY:元旦假期休假公告
DESCRIPTION:【元旦假期休假公告】 \n \n▲ 12/30(五)-1/1(一)日本留遊學諮詢服務於此期間『暫停對應』，若有諮詢需求，歡迎可先於官方LINE客服小幫手一對一留言『@nihonmura』喔❗\n將於1/2(二)9:00開始營業日後依序回覆大家。 \n~如果造成不便之處，還請見諒，謝謝~ \n　\n日本村留學就業中心\n網址：https://news.nihonmura.tw/\nE-mail：aiueo@nihonmura.com\nLINE ID:@nihonmura (歡迎加入留言)\nTEL：02-8772-7977 FAX: 02-8772-3339\n營業時間：\n週二～五 9:00～19:00；週六 9:00～17:00 \n※公休日：週日、週一。\n地址：10552台北市松山區復興北路73號7樓之2 (捷運南京復興站5號出口)
URL:https://events.nihonmura.tw/event/2023123011/
LOCATION:日本村留學就業中心\, 台北市松山區復興北路73號7樓之2
CATEGORIES:受理留學．遊學諮詢
ATTACH;FMTTYPE=image/jpeg:https://events.nihonmura.tw/wp-content/uploads/logo_M.jpg
ORGANIZER;CN="%E6%97%A5%E6%9C%AC%E6%9D%91%E7%95%99%E5%AD%B8%E5%B0%B1%E6%A5%AD%E4%B8%AD%E5%BF%83":MAILTO:aiueo@nihonmura.com
END:VEVENT
BEGIN:VEVENT
DTSTART;VALUE=DATE:20231012
DTEND;VALUE=DATE:20231013
DTSTAMP:20260424T212444
CREATED:20230503T032237Z
LAST-MODIFIED:20230620T015954Z
UID:6256-1697068800-1697155199@events.nihonmura.tw
SUMMARY:學校法人 水野學園_2024年度入學現地試驗日(台灣)
DESCRIPTION:2024年度4月生台灣入學考試~10月12日（四）~現地試驗，別錯過!! \n．専門学校 ヒコ・みづのジュエリーカレッジ\n．東京すし和食調理専門学校\n．東京サイクルデザイン専門学校\n．日本さかな専門学校 \n \n報考資格\n已完成12年學校教育，並具有以下其中一項資格者。 \n☝.取得日本語能力試驗N2以上，或日本留學試驗日語科目200分以上者，或BJT商務日語能力考試取得400分以上者。 \n⇒ 符合上述資格，試驗時，可免除筆試．作文。 \n☝.在日本國內學習日文6個月以上者。〈不包括持短期簽證的學習者在內〉 \n☝.曾經在日本的小學、國中、高中、高等專校、大學就讀一年以上經歷者。 \n報考時需繳交資料\n〈1〉入學申請書(留學生專用表格)[學校指定表格] \n〈2〉最終學歷的畢業證書〔正本〕-日文或英文 \n〈3〉護照影本 \n〈4〉推薦書(推薦或自我推薦)※非必要 \n〈5〉報考費：(推薦或自我推薦)15000日圓 / (一般)20000日圓 \n〈6〉日本語能力證明(日本語能力試驗合格證明、或日本留學試驗的成績單、或提出有同等日語程度的證明文件﹝需繳交正本﹞) \n〈7〉經費支付證明書(收入證明或存款證明)-日文或英文 \n※錄取後，需另外提交申請日本學生簽證的資料。 \n考試內容\n文件審查．日本語筆試．作文．面試 \n報名費\n(推薦或自我推薦)15000日圓 / (一般)20000日圓 \n報名期間\n2023年9月1日(五)～額滿為止，提出上記的報考資料 \n考試日期&考場\n2023年10月12日(四) _詳細時間及考場，待日後通知 \n洽詢表單\n \n洽詢聯絡　\n日本村留學就業中心\n網址：https://news.nihonmura.tw/\nE-mail：aiueo@nihonmura.com\nLINE ID:@nihonmura (歡迎加入留言)\nTEL：02-8772-7977 FAX: 02-8772-3339\n營業時間：\n週二～五 9:00～19:00；週六 9:00～17:00 \n※公休日：週日、週一。\n地址：10552台北市松山區復興北路73號7樓之2 (捷運南京復興站5號出口)
URL:https://events.nihonmura.tw/event/2024_exam_mizuno20231012/
LOCATION:日本村留學就業中心\, 台北市松山區復興北路73號7樓之2
CATEGORIES:受理留學．遊學諮詢
ATTACH;FMTTYPE=image/png:https://events.nihonmura.tw/wp-content/uploads/MIZUNO-GAKUEN_s_logo.png
ORGANIZER;CN="%E6%97%A5%E6%9C%AC%E6%9D%91%E7%95%99%E5%AD%B8%E5%B0%B1%E6%A5%AD%E4%B8%AD%E5%BF%83":MAILTO:aiueo@nihonmura.com
END:VEVENT
END:VCALENDAR