BEGIN:VCALENDAR
VERSION:2.0
PRODID:-//活動【交流會・座談會・說明會等】with 日本村留學就業中心 - ECPv6.8.3//NONSGML v1.0//EN
CALSCALE:GREGORIAN
METHOD:PUBLISH
X-ORIGINAL-URL:https://events.nihonmura.tw
X-WR-CALDESC:Events for 活動【交流會・座談會・說明會等】with 日本村留學就業中心
REFRESH-INTERVAL;VALUE=DURATION:PT1H
X-Robots-Tag:noindex
X-PUBLISHED-TTL:PT1H
BEGIN:VTIMEZONE
TZID:Asia/Taipei
BEGIN:STANDARD
TZOFFSETFROM:+0800
TZOFFSETTO:+0800
TZNAME:CST
DTSTART:20260101T000000
END:STANDARD
END:VTIMEZONE
BEGIN:VEVENT
DTSTART;TZID=Asia/Taipei:20260423T150000
DTEND;TZID=Asia/Taipei:20260423T160000
DTSTAMP:20260424T051831
CREATED:20260328T014756Z
LAST-MODIFIED:20260328T014756Z
UID:8146-1776956400-1776960000@events.nihonmura.tw
SUMMARY:週四 日本短期遊學說明會 IN 日本村
DESCRIPTION:當您考慮前往日本短期遊學，是否清楚了解該如何準備？日本短期遊學適合希望在短時間內提升日語能力、體驗日本文化並親身感受當地生活的學習者。課程類型多樣，可依學習目標選擇一般日語課程、文化體驗課程等。短期內的密集學習能有效提升日語能力，同時學校也會安排各種課外活動，讓學生在實際生活中應用日語，並有機會結交來自世界各地的朋友。該如何找符合自己需求的課程呢？在這場說明會中，將會為各位同學說明，日本短期課程有分哪幾種形式？報名時，需準備什麼資料？以及在日本生活的小知識~ \n如果您計畫會前往日本短期遊學，歡迎您事先了解申請流程，為之後的遊學之路事前做些準備。日本村專員將為大家說明，由於場地有限，採預約制。計畫前往日本遊學的人士，歡迎您報名參加，並期望透過此講座讓大家早日完成前往日本生活的願望。 \n對象\n1.將來打算前往日本短期遊學(1週~3個月)日語的人士。\n2.以預定1年以內入學者為優先接受預約。 \n日期&時間\n2026年4月23日（星期四）下午3點開始 \n說明會地點\n10552台北市松山區復興北路73號7樓之2 (捷運南京復興站5號出口)\n \n預約表單\nPlease enable JavaScript in your browser to complete this form.姓名 *性別 *男女其他年齡 *請直接填入數字，例如：24歲，請填入24即可。聯絡電話(手機號碼) *E-mail *參加場次(可複選) *4月23日(四)下午3:00 日本短期遊學說明會4月25日(六)下午1:00 日本長期留學申請流程說明參與場次為兩場以上，希望參與方式不同時，請於下方備註欄註明各場次之希望參與方式。\n欲了解其他說明會場次者，請可以連結以下網址查閱。\n\n週五・週六 日本留學說明會 in 日本村：https://events.nihonmura.tw/events/category/fri_sat/ 希望參加型態 *現場參與(直接前往日本村)網路視訊連線參與(*)(*)原則上以現場參與為主，若無法親自到場參與，也可受理透過網路視訊參與，關於連線方式，日後將個別傳送參與連結並指導參與方式。希望入學時期 *2026年7月2026年10月2027年1月2027年4月其他/未定希望利用何種簽證前往 *正規學生身份--學生簽證 [6個月以上]不清楚 / 未定其他目前日語程度 *未學過入門~初級(N5~N4)初級~初中級(N4~N3)初中級~中級(N3~N2)中級以上(N2以上)未來想要在日本的目標 *升學(大學院、大學、專門學校)就職回國其他在日本留學的計劃、其他詢問等..請輸入在此處若您是經由介紹，初次參與日本村的活動與我們聯絡的話，請於下方輸入介紹人相關資訊。送出  \n主辦單位　\n日本村留學就業中心\n網址：https://news.nihonmura.tw/\nE-mail：aiueo@nihonmura.com\nLINE ID:@nihonmura (歡迎加入留言)\nTEL：02-8772-7977 FAX: 02-8772-3339\n營業時間：\n週二～五 9:00～21:00；週六 9:00～17:00 \n※公休日：週日、週一。\n地址：10552台北市松山區復興北路73號7樓之2 (捷運南京復興站5號出口)
URL:https://events.nihonmura.tw/event/202604231500/
LOCATION:日本村留學就業中心\, 台北市松山區復興北路73號7樓之2
CATEGORIES:週四 日本短期遊學說明會 IN 日本村
ATTACH;FMTTYPE=image/jpeg:https://events.nihonmura.tw/wp-content/uploads/logo_M.jpg
ORGANIZER;CN="%E6%97%A5%E6%9C%AC%E6%9D%91%E7%95%99%E5%AD%B8%E5%B0%B1%E6%A5%AD%E4%B8%AD%E5%BF%83":MAILTO:aiueo@nihonmura.com
END:VEVENT
END:VCALENDAR